BEGIN:VCALENDAR
VERSION:2.0
PRODID:-//ChamberMaster//Event Calendar 2.0//EN
METHOD:PUBLISH
X-PUBLISHED-TTL:P3D
REFRESH-INTERVAL:P3D
CALSCALE:GREGORIAN
BEGIN:VEVENT
DTSTART:20230702T140000Z
DTEND:20230702T150000Z
X-MICROSOFT-CDO-ALLDAYEVENT:FALSE
SUMMARY:Yoga on Tap with Rachel May Flows
DESCRIPTION:Join us on Sunday\, July 2nd from 10-11am to find your flow with Rachel Howe of Rachel May Flows*\n\nAdmission is $18 for an all levels Vinyasa style yoga class\, with an option to separately purchase a beverage for a private hour in The Brewery at Four Star Farms' taproom from 11am-12pm\n\nRachel asks all participants to dress comfortably\, and to bring your own yoga mat if you have one. Bottled water will be available in the taproom\n\n*Rachel Howe is a local yoga instructor with over 200 hundred registered hours instructing. Rachel encourages people of all ages and levels to join us\, yoga is for everyone!
X-ALT-DESC;FMTTYPE=text/html:<div class="xdj266r x11i5rnm xat24cr x1mh8g0r x1vvkbs" style="margin: 0px\; overflow-wrap: break-word\; font-family: &quot\;Segoe UI Historic&quot\;\, &quot\;Segoe UI&quot\;\, Helvetica\, Arial\, sans-serif\; color: rgb(5\, 5\, 5)\; font-size: 15px\;">Join us on Sunday\, July 2nd from 10-11am to find your flow with Rachel Howe of Rachel May Flows*</div>\n\n<div class="x11i5rnm xat24cr x1mh8g0r x1vvkbs xtlvy1s" style="margin: 0.5em 0px 0px\; overflow-wrap: break-word\; font-family: &quot\;Segoe UI Historic&quot\;\, &quot\;Segoe UI&quot\;\, Helvetica\, Arial\, sans-serif\; color: rgb(5\, 5\, 5)\; font-size: 15px\;">Admission is $18 for an all levels Vinyasa style yoga class\, with an option to separately purchase a beverage for a private hour in The Brewery at Four Star Farms&#39\; taproom from 11am-12pm</div>\n\n<div class="x11i5rnm xat24cr x1mh8g0r x1vvkbs xtlvy1s" style="margin: 0.5em 0px 0px\; overflow-wrap: break-word\; font-family: &quot\;Segoe UI Historic&quot\;\, &quot\;Segoe UI&quot\;\, Helvetica\, Arial\, sans-serif\; color: rgb(5\, 5\, 5)\; font-size: 15px\;">Rachel asks all participants to dress comfortably\, and to bring your own yoga mat if you have one. Bottled water will be available in the taproom</div>\n\n<div class="x11i5rnm xat24cr x1mh8g0r x1vvkbs xtlvy1s" style="margin: 0.5em 0px 0px\; overflow-wrap: break-word\; font-family: &quot\;Segoe UI Historic&quot\;\, &quot\;Segoe UI&quot\;\, Helvetica\, Arial\, sans-serif\; color: rgb(5\, 5\, 5)\; font-size: 15px\;">*Rachel Howe is a local yoga instructor with over 200 hundred registered hours instructing. Rachel encourages people of all ages and levels to join us\, yoga is for everyone!</div>\n
LOCATION:The Brewery at Four Star Farm 508 Pine Meadow Road\, Northfield
UID:e.2182.19922
SEQUENCE:3
DTSTAMP:20260425T030445Z
URL:https://chamber.franklincc.org/events/details/yoga-on-tap-with-rachel-may-flows-19922
END:VEVENT

END:VCALENDAR
