BEGIN:VCALENDAR
VERSION:2.0
PRODID:-//ChamberMaster//Event Calendar 2.0//EN
METHOD:PUBLISH
X-PUBLISHED-TTL:P3D
REFRESH-INTERVAL:P3D
CALSCALE:GREGORIAN
BEGIN:VEVENT
DTSTART:20250719T133000Z
DTEND:20250719T153000Z
X-MICROSOFT-CDO-ALLDAYEVENT:FALSE
SUMMARY:Workshop "The Care and Keeping of Flowers"
DESCRIPTION:Presented by Just Roots community farm.\n\nWorkshop will be led by Ferron Dooley Fairchild of Fernie Floral.\n\n\n\nWorkshop will cover the fundamentals of harvesting flowers and crafting floral designs. Participants will learn post-harvest care methods to extend a flower's beauty\, as well as enjoy hands-on bouquet-making and design instruction while crafting arrangements to take home. All supplies will be provided.\n\n\n\nRegister in advance - cost is $50.00. Limited to 20.http://bit.ly/carekeepflowers
X-ALT-DESC;FMTTYPE=text/html:Presented by Just Roots community farm.<br />\nWorkshop will be led by Ferron Dooley Fairchild of Fernie Floral.<br />\n<br />\nWorkshop will cover the fundamentals of harvesting flowers and crafting floral designs. Participants will learn post-harvest care methods to extend a flower&#39\;s beauty\, as well as enjoy hands-on bouquet-making and design instruction while crafting arrangements to take home. All supplies will be provided.<br />\n<br />\nRegister in advance - cost is $50.00. Limited to 20.<a href="http://bit.ly/carekeepflowers" target="_blank">http://bit.ly/carekeepflowers</a>
LOCATION:Just Roots community farm 43 Glenbrook Drive\, Greenfield
UID:e.2182.24895
SEQUENCE:3
DTSTAMP:20260424T001401Z
URL:https://chamber.franklincc.org/events/details/workshop-the-care-and-keeping-of-flowers-24895
END:VEVENT

END:VCALENDAR
