BEGIN:VCALENDAR
VERSION:2.0
PRODID:-//ChamberMaster//Event Calendar 2.0//EN
METHOD:PUBLISH
X-PUBLISHED-TTL:P3D
REFRESH-INTERVAL:P3D
CALSCALE:GREGORIAN
BEGIN:VEVENT
DTSTART:20240518T140000Z
DTEND:20240519T200000Z
X-MICROSOFT-CDO-ALLDAYEVENT:FALSE
SUMMARY:Wooly Wonders: Historic Deerfield Heritage Breed Sheep Weekend
DESCRIPTION:Looking for something fun to do for the whole family? Be sure to swing by Historic Deerfield to check out Wooly Wonders- Heritage Breed Sheep Weekend! May 18th & 19th\, 10 AM-4 PM at the Flynt Center of Early New England Life. Visit heritage breed sheep under the big tent the whole weekend. Discover the history of sheep in New England and find out why the Merino created such a craze. \n\n\n\nNew this year: "Meet and Greet the Sheep" with heritage breed expert\, Peter Cook from Tare Shirt Farm in Berwick\, Maine. Enjoy hands-on activities like dyeing yarn and weaving. Make and take a sheep inspired craft or two. Watch sheep dog herding and sheep shearing. Have fun playing lawn games and trying your hand at using a drop spindle to spin wool into yarn.
X-ALT-DESC;FMTTYPE=text/html:Looking for something fun to do for the whole family? Be sure to swing by Historic Deerfield to check out Wooly Wonders- Heritage Breed Sheep Weekend! May 18th &amp\; 19th\, 10 AM-4 PM at the Flynt Center of Early New England Life. Visit heritage breed sheep under the big tent the whole weekend. Discover the history of sheep in New England and find out why the Merino created such a craze.&nbsp\;<br />\n<br />\nNew this year: &quot\;Meet and Greet the Sheep&quot\; with heritage breed expert\, Peter Cook from Tare Shirt Farm in Berwick\, Maine. Enjoy hands-on activities like dyeing yarn and weaving. Make and take a sheep inspired craft or two. Watch sheep dog herding and sheep shearing. Have fun playing lawn games and trying your hand at using a drop spindle to spin wool into yarn.&nbsp\;
LOCATION:Flynt Center of Early New England Life in Historic Deerfield
UID:e.2182.23010
SEQUENCE:3
DTSTAMP:20260424T141756Z
URL:https://chamber.franklincc.org/events/details/wooly-wonders-historic-deerfield-heritage-breed-sheep-weekend-23010
END:VEVENT

END:VCALENDAR
