BEGIN:VCALENDAR
VERSION:2.0
PRODID:-//ChamberMaster//Event Calendar 2.0//EN
METHOD:PUBLISH
X-PUBLISHED-TTL:P3D
REFRESH-INTERVAL:P3D
CALSCALE:GREGORIAN
BEGIN:VEVENT
DTSTART;VALUE=DATE:20250708
DTEND;VALUE=DATE:20250709
TRANSP:TRANSPARENT
X-MICROSOFT-CDO-ALLDAYEVENT:TRUE
SUMMARY:Whole Children and Milestones Summer Registration
DESCRIPTION:Whole Children  and Milestones offer social and recreational classes in Northampton for kids\, teens\, and adults of all abilities. We have a ton of new classes this session with options like Preschool Music and Movement\, Comic Writing\, Theater Games\, Intro to Friendship Band\, Improv Class and more! Summer session runs from July 8- August 23. Register now: https://www.wholechildren.org/class-schedule
X-ALT-DESC;FMTTYPE=text/html:Whole Children&trade\; and Milestones offer social and recreational classes in Northampton for kids\, teens\, and adults of all abilities. We have a ton of new classes this session with options like Preschool Music and Movement\, Comic Writing\, Theater Games\, Intro to Friendship Band\, Improv Class and more! Summer session runs from July 8- August 23. Register now: <a href="https://www.wholechildren.org/class-schedule" target="_blank">https://www.wholechildren.org/class-schedule</a>
LOCATION:11 Village Hill\, Northampton MA\, 01060
UID:e.2182.24812
SEQUENCE:3
DTSTAMP:20260424T001321Z
URL:https://chamber.franklincc.org/events/details/whole-children-and-milestones-summer-registration-24812
END:VEVENT

END:VCALENDAR
