BEGIN:VCALENDAR
VERSION:2.0
PRODID:-//ChamberMaster//Event Calendar 2.0//EN
METHOD:PUBLISH
X-PUBLISHED-TTL:P3D
REFRESH-INTERVAL:P3D
CALSCALE:GREGORIAN
BEGIN:VEVENT
DTSTART:20200307T153000Z
DTEND:20200307T163000Z
X-MICROSOFT-CDO-ALLDAYEVENT:FALSE
SUMMARY:When Will It Be Spring? A Story Hour
DESCRIPTION:Don't let cabin fever get you down. Just like Alfie the bear in When Will It Be Spring?\, we consider the very early signs of spring through stories\, adventures\, and crafts. Wear layers and sturdy shoes in case the weather is fine. For ages 3-6\, accompanied by an adult.  Siblings and friends welcome.
X-ALT-DESC;FMTTYPE=text/html:Don&rsquo\;t let cabin fever get you down. Just like Alfie the bear in When Will It Be Spring?\, we consider the very early signs of spring through stories\, adventures\, and crafts. Wear layers and sturdy shoes in case the weather is fine. For ages 3-6\, accompanied by an adult.&nbsp\; Siblings and friends welcome.&nbsp\;
LOCATION:Great Hall at Great Falls Discovery Center 2 Avenue A\, Turners Falls
UID:e.2182.17214
SEQUENCE:3
DTSTAMP:20260423T000903Z
URL:https://chamber.franklincc.org/events/details/when-will-it-be-spring-a-story-hour-17214
END:VEVENT

END:VCALENDAR
