BEGIN:VCALENDAR
VERSION:2.0
PRODID:-//ChamberMaster//Event Calendar 2.0//EN
METHOD:PUBLISH
X-PUBLISHED-TTL:P3D
REFRESH-INTERVAL:P3D
CALSCALE:GREGORIAN
BEGIN:VEVENT
DTSTART:20250526T140000Z
DTEND:20250526T163000Z
X-MICROSOFT-CDO-ALLDAYEVENT:FALSE
SUMMARY:Whately Memorial Day Ceremony & Parade
DESCRIPTION:The event begins at the Whately Congregational Church at 10 a.m. At 11:15 a.m.\, the parade will leave the church and participants will walk to the nearby cemetery\, where the local Veterans of Foreign Wars chapter will lay a wreath on a veteran's grave. The group will then return to the town's war memorial in front of Town Hall for the rest of the ceremony.\n\n\n\nThe keynote speaker will be the Rev. Cynthia Crosson-Harrington\, of the Whately Congregational Church. The Frontier Regional School Marching Band will provide marching music and a solo trumpeter will play taps at the cemetery and war memorial. This year's event also includes Whately Elementary School students\, with grades one through three drawing patriotic pictures and students in fourth through sixth grades invited to write a one-page story about freedom.\n\n\n\nThe parade will include public safety departments and members of the public. Folks with antique vehicles\, tractors or trucks are welcome to participate.
X-ALT-DESC;FMTTYPE=text/html:The event begins at the Whately Congregational Church at 10 a.m. At 11:15 a.m.\, the parade will leave the church and participants will walk to the nearby cemetery\, where the local Veterans of Foreign Wars chapter will lay a wreath on a veteran&rsquo\;s grave. The group will then return to the town&rsquo\;s war memorial in front of Town Hall for the rest of the ceremony.<br />\n<br />\nThe keynote speaker will be the Rev. Cynthia Crosson-Harrington\, of the Whately Congregational Church. The Frontier Regional School Marching Band will provide marching music and a solo trumpeter will play taps at the cemetery and war memorial. This year&rsquo\;s event also includes Whately Elementary School students\, with grades one through three drawing patriotic pictures and students in fourth through sixth grades invited to write a one-page story about freedom.<br />\n<br />\nThe parade will include public safety departments and members of the public. Folks with antique vehicles\, tractors or trucks are welcome to participate.
LOCATION:
UID:e.2182.24750
SEQUENCE:3
DTSTAMP:20260423T211245Z
URL:https://chamber.franklincc.org/events/details/whately-memorial-day-ceremony-parade-24750
END:VEVENT

END:VCALENDAR
