BEGIN:VCALENDAR
VERSION:2.0
PRODID:-//ChamberMaster//Event Calendar 2.0//EN
METHOD:PUBLISH
X-PUBLISHED-TTL:P3D
REFRESH-INTERVAL:P3D
CALSCALE:GREGORIAN
BEGIN:VEVENT
DTSTART:20190605T213000Z
DTEND:20190605T233000Z
X-MICROSOFT-CDO-ALLDAYEVENT:FALSE
SUMMARY:Wednesday Night Knitters
DESCRIPTION:The Knitters are gathering around the big table every Wednesday night. No matter how much experience you have\, even if it's none at all\, the Wednesday Night Knitters will welcome you. Join volunteer instructor Becky Lawlor and the rest of the group for some productive fun.
X-ALT-DESC;FMTTYPE=text/html:The Knitters are gathering around the big table every Wednesday night. No matter how much experience you have\, even if it&#39\;s none at all\, the Wednesday Night Knitters will welcome you. Join volunteer instructor Becky Lawlor and the rest of the group for some productive fun.
LOCATION:Cushman Library 28 Cushman Street\, Bernardston
UID:e.2182.13800
SEQUENCE:3
DTSTAMP:20260424T115406Z
URL:https://chamber.franklincc.org/events/details/wednesday-night-knitters-06-05-2019-13800
END:VEVENT

END:VCALENDAR
