BEGIN:VCALENDAR
VERSION:2.0
PRODID:-//ChamberMaster//Event Calendar 2.0//EN
METHOD:PUBLISH
X-PUBLISHED-TTL:P3D
REFRESH-INTERVAL:P3D
CALSCALE:GREGORIAN
BEGIN:VEVENT
DTSTART:20250831T190000Z
DTEND:20250831T213000Z
X-MICROSOFT-CDO-ALLDAYEVENT:FALSE
SUMMARY:Watershed History Station: Women Who Made Franklin County
DESCRIPTION:This Labor Day Weekend\, experience Franklin County through the maps\, stories\, photos and lives of four women who worked here. Stop by our table for a few minutes or longer to explore and relive history. Meet outside the center. In case of inclement weather\, find us inside the center. For all ages.
X-ALT-DESC;FMTTYPE=text/html:This Labor Day Weekend\, experience Franklin County through the maps\, stories\, photos and lives of four women who worked here. Stop by our table for a few minutes or longer to explore and relive history. Meet outside the center. In case of inclement weather\, find us inside the center. For all ages.
LOCATION:Great Falls Discovery Center Department of Conservation & Recreation 2 Avenue A\, Turners Falls
UID:e.2182.24972
SEQUENCE:3
DTSTAMP:20260424T013639Z
URL:https://chamber.franklincc.org/events/details/watershed-history-station-women-who-made-franklin-county-24972
END:VEVENT

END:VCALENDAR
