BEGIN:VCALENDAR
VERSION:2.0
PRODID:-//ChamberMaster//Event Calendar 2.0//EN
METHOD:PUBLISH
X-PUBLISHED-TTL:P3D
REFRESH-INTERVAL:P3D
CALSCALE:GREGORIAN
BEGIN:VEVENT
DTSTART:20181124T140000Z
DTEND:20181124T190000Z
X-MICROSOFT-CDO-ALLDAYEVENT:FALSE
SUMMARY:Warwick Holiday Fair
DESCRIPTION:Holiday fair features 25+ local artisans\, large Theme Basket raffle\, bake sale\, hot lunch\, PTO and Mission tables. Proceeds split between Warwick Community School PTO and Warwick Church
X-ALT-DESC;FMTTYPE=text/html:Holiday fair features 25+ local artisans\, large Theme Basket raffle\, bake sale\, hot lunch\, PTO and Mission tables. Proceeds split between Warwick Community School PTO and Warwick Church
LOCATION:Warwick Community School 41 Winchester Road Warwick MA
UID:e.2182.13431
SEQUENCE:3
DTSTAMP:20260424T211839Z
URL:https://chamber.franklincc.org/events/details/warwick-holiday-fair-13431
END:VEVENT

END:VCALENDAR
