BEGIN:VCALENDAR
VERSION:2.0
PRODID:-//ChamberMaster//Event Calendar 2.0//EN
METHOD:PUBLISH
X-PUBLISHED-TTL:P3D
REFRESH-INTERVAL:P3D
CALSCALE:GREGORIAN
BEGIN:VEVENT
DTSTART:20231218T153000Z
DTEND:20231218T220000Z
X-MICROSOFT-CDO-ALLDAYEVENT:FALSE
SUMMARY:Visits With Santa\, In Person!
DESCRIPTION:Santa will be at Yankee Candle IN PERSON and ready to have visits starting on Friday\, November 3rd through December 23rd! This magical Santa Experience includes a ton of holiday fun! Write and mail a letter to Santa\, take a photo in his sleigh\, enter to win holiday raffle prizes and more! Come early or stay after to complete the Gingerbread Scavenger Hunt.\n\n\n\nWeekday Savings! Book your Santa visit for a Monday\, Tuesday\, Wednesday or Thursday and receive a special savings coupon. More information on the event site.
X-ALT-DESC;FMTTYPE=text/html:<span style="color: rgb(0\, 0\, 0)\; font-family: roboto-regular\, sans-serif\;">Santa will be at Yankee Candle IN PERSON and ready to have visits starting on Friday\, November 3rd through December 23rd! This magical Santa Experience includes a ton of holiday fun! Write and mail a letter to Santa\, take a photo in his sleigh\, enter to win holiday raffle prizes and more! Come early or stay after to complete the Gingerbread Scavenger Hunt.<br>\n<br>\nWeekday Savings! Book your Santa visit for a Monday\, Tuesday\, Wednesday or Thursday and receive a special savings coupon. More information on the event site.</span><br style="box-sizing: border-box\; color: rgb(0\, 0\, 0)\; font-family: roboto-regular\, sans-serif\;">\n&nbsp\;
LOCATION:25 Greenfield Road\, South Deerfield\, MA 01373
UID:e.2182.22420
SEQUENCE:3
DTSTAMP:20260424T224015Z
URL:https://chamber.franklincc.org/events/details/visits-with-santa-in-person-12-18-2023-22420
END:VEVENT

END:VCALENDAR
