BEGIN:VCALENDAR
VERSION:2.0
PRODID:-//ChamberMaster//Event Calendar 2.0//EN
METHOD:PUBLISH
X-PUBLISHED-TTL:P3D
REFRESH-INTERVAL:P3D
CALSCALE:GREGORIAN
BEGIN:VEVENT
DTSTART:20210210T233000Z
DTEND:20210211T013000Z
X-MICROSOFT-CDO-ALLDAYEVENT:FALSE
SUMMARY:Virtual Workshop: Conversation About Racism
DESCRIPTION:CONVERSATION ABOUT RACISM:\n\nStaying Curious\, Moving Forward\, and Being Part of the Solution\n\n \n\nA workshop designed to encourage discussion between black and white people and help us learn to appreciate and understand different experiences and perspectives. The conversation\, moderated by Allen Davis\, will focus on the experiences of three local black community members: Jeanne Hall\, Richard Hall\, and Gloria Matlock.\n\nPlease email the Tilton Library at tiltonlibrary@cwmars.org a week before the event for the ZOOM link.\n\nCo-Sponsored by the Deerfield Inclusion Group (DIG).\n\nThe Sunderland Public Library will host the same event on March 11.
X-ALT-DESC;FMTTYPE=text/html:<div class="kvgmc6g5 cxmmr5t8 oygrvhab hcukyx3x c1et5uql" style="overflow-wrap: break-word\; margin: 0px\; font-family: &quot\;Segoe UI Historic&quot\;\, &quot\;Segoe UI&quot\;\, Helvetica\, Arial\, sans-serif\; color: rgb(5\, 5\, 5)\; font-size: 15px\; animation-name: none !important\; transition-property: none !important\;">CONVERSATION ABOUT RACISM:<br style="animation-name: none !important\; transition-property: none !important\;" />\nStaying Curious\, Moving Forward\, and Being Part of the Solution</div>\n\n<div class="o9v6fnle cxmmr5t8 oygrvhab hcukyx3x c1et5uql" style="overflow-wrap: break-word\; margin: 0.5em 0px 0px\; font-family: &quot\;Segoe UI Historic&quot\;\, &quot\;Segoe UI&quot\;\, Helvetica\, Arial\, sans-serif\; color: rgb(5\, 5\, 5)\; font-size: 15px\; animation-name: none !important\; transition-property: none !important\;">&nbsp\;</div>\n\n<div class="o9v6fnle cxmmr5t8 oygrvhab hcukyx3x c1et5uql" style="overflow-wrap: break-word\; margin: 0.5em 0px 0px\; font-family: &quot\;Segoe UI Historic&quot\;\, &quot\;Segoe UI&quot\;\, Helvetica\, Arial\, sans-serif\; color: rgb(5\, 5\, 5)\; font-size: 15px\; animation-name: none !important\; transition-property: none !important\;">A workshop designed to encourage discussion between black and white people and help us learn to appreciate and understand different experiences and perspectives. The conversation\, moderated by Allen Davis\, will focus on the experiences of three local black community members: Jeanne Hall\, Richard Hall\, and Gloria Matlock.</div>\n\n<div class="o9v6fnle cxmmr5t8 oygrvhab hcukyx3x c1et5uql" style="overflow-wrap: break-word\; margin: 0.5em 0px 0px\; font-family: &quot\;Segoe UI Historic&quot\;\, &quot\;Segoe UI&quot\;\, Helvetica\, Arial\, sans-serif\; color: rgb(5\, 5\, 5)\; font-size: 15px\; animation-name: none !important\; transition-property: none !important\;">Please email the Tilton Library at tiltonlibrary@cwmars.org a week before the event for the ZOOM link.</div>\n\n<div class="o9v6fnle cxmmr5t8 oygrvhab hcukyx3x c1et5uql" style="overflow-wrap: break-word\; margin: 0.5em 0px 0px\; font-family: &quot\;Segoe UI Historic&quot\;\, &quot\;Segoe UI&quot\;\, Helvetica\, Arial\, sans-serif\; color: rgb(5\, 5\, 5)\; font-size: 15px\; animation-name: none !important\; transition-property: none !important\;">Co-Sponsored by the Deerfield Inclusion Group (DIG).</div>\n\n<div class="o9v6fnle cxmmr5t8 oygrvhab hcukyx3x c1et5uql" style="overflow-wrap: break-word\; margin: 0.5em 0px 0px\; font-family: &quot\;Segoe UI Historic&quot\;\, &quot\;Segoe UI&quot\;\, Helvetica\, Arial\, sans-serif\; color: rgb(5\, 5\, 5)\; font-size: 15px\; animation-name: none !important\; transition-property: none !important\;">The Sunderland Public Library will host the same event on March 11.</div>\n
LOCATION:
UID:e.2182.17796
SEQUENCE:3
DTSTAMP:20260420T040134Z
URL:https://chamber.franklincc.org/events/details/virtual-workshop-conversation-about-racism-17796
END:VEVENT

END:VCALENDAR
