BEGIN:VCALENDAR
VERSION:2.0
PRODID:-//ChamberMaster//Event Calendar 2.0//EN
METHOD:PUBLISH
X-PUBLISHED-TTL:P3D
REFRESH-INTERVAL:P3D
CALSCALE:GREGORIAN
BEGIN:VEVENT
DTSTART:20210227T000000Z
DTEND:20210227T013000Z
X-MICROSOFT-CDO-ALLDAYEVENT:FALSE
SUMMARY:Virtual Visit to Cave Hill Mill
DESCRIPTION:Virtual visit to mill site in Leverett with Leverett Historical Commission. Followed by conversation.  Easy to miss when you're driving by\, Cave Hill Mill was partially covered by road construction. Nevertheless\, it's a fascinating place. Join historian Pleun Bouricius and members of the Leverett Historical Commission as they virtually visit the mill site and learn to interpret what's still there and what was once there\, and discuss what owners can do for sites like these.\n\nhttp://bit.ly/zoomcavehillmill
X-ALT-DESC;FMTTYPE=text/html:Virtual visit to mill site in Leverett with Leverett Historical Commission. Followed by conversation.&nbsp\; Easy to miss when you're driving by\, Cave Hill Mill was partially covered by road construction. Nevertheless\, it's a fascinating place. Join historian Pleun Bouricius and members of the Leverett Historical Commission as they virtually visit the mill site and learn to interpret what's still there and what was once there\, and discuss what owners can do for sites like these.<br>\n<a href="http://bit.ly/zoomcavehillmill" target="_blank">http://bit.ly/zoomcavehillmill</a>
LOCATION:
UID:e.2182.17836
SEQUENCE:3
DTSTAMP:20260420T003256Z
URL:https://chamber.franklincc.org/events/details/virtual-visit-to-cave-hill-mill-17836
END:VEVENT

END:VCALENDAR
