BEGIN:VCALENDAR
VERSION:2.0
PRODID:-//ChamberMaster//Event Calendar 2.0//EN
METHOD:PUBLISH
X-PUBLISHED-TTL:P3D
REFRESH-INTERVAL:P3D
CALSCALE:GREGORIAN
BEGIN:VEVENT
DTSTART:20201211T000000Z
DTEND:20201211T010000Z
X-MICROSOFT-CDO-ALLDAYEVENT:FALSE
SUMMARY:Virtual "Grapes to Glass" Wine Tasting Fundraiser
DESCRIPTION:Join Host Jacqui Zuzgo\, GCC Board member\, moderated by Massachusetts importer/distributor Gordon Alexander\, owner of Terrior Wines for this virtual wine tasting to benefit the Greenfield Community College Foundation.\n\nEnjoy a n evening with Tomas Achaval\, owner of Normade Winery\, from his home in Argentina. Tomas will lead us on a tour of Argentina and its wines.
X-ALT-DESC;FMTTYPE=text/html:Join Host Jacqui Zuzgo\, GCC Board member\, moderated by Massachusetts importer/distributor Gordon Alexander\, owner of Terrior Wines for this virtual wine tasting to benefit the Greenfield Community College Foundation.<br />\nEnjoy a n evening with Tomas Achaval\, owner of Normade Winery\, from his home in Argentina. Tomas will lead us on a tour of Argentina and its wines.
LOCATION:Zoom in from your home.
UID:e.2182.17714
SEQUENCE:3
DTSTAMP:20260421T042749Z
URL:https://chamber.franklincc.org/events/details/virtual-grapes-to-glass-wine-tasting-fundraiser-17714
END:VEVENT

END:VCALENDAR
