BEGIN:VCALENDAR
VERSION:2.0
PRODID:-//ChamberMaster//Event Calendar 2.0//EN
METHOD:PUBLISH
X-PUBLISHED-TTL:P3D
REFRESH-INTERVAL:P3D
CALSCALE:GREGORIAN
BEGIN:VEVENT
DTSTART:20230603T180000Z
DTEND:20230604T020000Z
X-MICROSOFT-CDO-ALLDAYEVENT:FALSE
SUMMARY:Unity Park Festival and Maker's Market
DESCRIPTION:The best local makers of useful art items to swap\, sell\, demonstrate\, and learn. This festival is for gear-heads\, creators\, woodworkers\, inventors\, and tinkerers\; people who find joy in repurposing\, recycling\, rebuilding\, and reimaging. The free\, day long outdoor event will also have plenty of music\, food trucks\, skateboarding and activities for families. The vendors and music will take place on 2nd Street near Nova Motorcycles. The road will be closed to public traffic for the day.\n\nUnity Fest is supported by a Festival Grant from the Mass Cultural Council and the support of Montague Parks and Rec\, Nova Motorcycle\, and Pioneer Valley Brewery.
X-ALT-DESC;FMTTYPE=text/html:The b<span style="color: rgb(5\, 5\, 5)\; font-family: &quot\;Segoe UI Historic&quot\;\, &quot\;Segoe UI&quot\;\, Helvetica\, Arial\, sans-serif\; font-size: 15px\;">est local makers of useful art items to swap\, sell\, demonstrate\, and learn. This festival is for gear-heads\, creators\, woodworkers\, inventors\, and tinkerers\; people who find joy in repurposing\, recycling\, rebuilding\, and reimaging. The free\, day long outdoor event will also have plenty of music\, food trucks\, skateboarding and activities for families. The vendors and music will take place on 2nd Street near Nova Motorcycles. The road will be closed to public traffic for the day.<br />\nUnity Fest is supported by a Festival Grant from the Mass Cultural Council and the support of Montague Parks and Rec\, Nova Motorcycle\, and Pioneer Valley Brewery.</span><br />\n<br />\n&nbsp\;
LOCATION:Unity Park
UID:e.2182.19830
SEQUENCE:3
DTSTAMP:20260425T030527Z
URL:https://chamber.franklincc.org/events/details/unity-park-festival-and-maker-s-market-19830
END:VEVENT

END:VCALENDAR
