BEGIN:VCALENDAR
VERSION:2.0
PRODID:-//ChamberMaster//Event Calendar 2.0//EN
METHOD:PUBLISH
X-PUBLISHED-TTL:P3D
REFRESH-INTERVAL:P3D
CALSCALE:GREGORIAN
BEGIN:VEVENT
DTSTART:20230818T223000Z
DTEND:20230819T010000Z
X-MICROSOFT-CDO-ALLDAYEVENT:FALSE
SUMMARY:Turners Falls Summer Movie Series
DESCRIPTION:PRINCESS BRIDE (1987)\n\nRomantic Adventure Comedy\, Rated PG\n\nThis delightfully postmodern fairy tale tells the story of a swashbuckling farmhand named Westley who must rescue his true love Princess Buttercup from the odious Prince Humperdinck. The Princess Bride is a deft\, intelligent mix of swashbuckling\, romance\, and comedy that takes an age-old damsel-in-distress story and makes it fresh.
X-ALT-DESC;FMTTYPE=text/html:<span style="color: rgb(5\, 5\, 5)\; font-family: &quot\;Segoe UI Historic&quot\;\, &quot\;Segoe UI&quot\;\, Helvetica\, Arial\, sans-serif\; font-size: 15px\;">PRINCESS BRIDE (1987)</span><br style="color: rgb(5\, 5\, 5)\; font-family: &quot\;Segoe UI Historic&quot\;\, &quot\;Segoe UI&quot\;\, Helvetica\, Arial\, sans-serif\; font-size: 15px\;" />\n<span style="color: rgb(5\, 5\, 5)\; font-family: &quot\;Segoe UI Historic&quot\;\, &quot\;Segoe UI&quot\;\, Helvetica\, Arial\, sans-serif\; font-size: 15px\;">Romantic Adventure Comedy\, Rated PG</span><br style="color: rgb(5\, 5\, 5)\; font-family: &quot\;Segoe UI Historic&quot\;\, &quot\;Segoe UI&quot\;\, Helvetica\, Arial\, sans-serif\; font-size: 15px\;" />\n<span style="color: rgb(5\, 5\, 5)\; font-family: &quot\;Segoe UI Historic&quot\;\, &quot\;Segoe UI&quot\;\, Helvetica\, Arial\, sans-serif\; font-size: 15px\;">This delightfully postmodern fairy tale tells the story of a swashbuckling farmhand named Westley who must rescue his true love Princess Buttercup from the odious Prince Humperdinck. The Princess Bride is a deft\, intelligent mix of swashbuckling\, romance\, and comedy that takes an age-old damsel-in-distress story and makes it fresh.</span>
LOCATION:Peskeompskut Park\, Turners Falls
UID:e.2182.20230
SEQUENCE:3
DTSTAMP:20260425T035206Z
URL:https://chamber.franklincc.org/events/details/turners-falls-summer-movie-series-20230
END:VEVENT

END:VCALENDAR
