BEGIN:VCALENDAR
VERSION:2.0
PRODID:-//ChamberMaster//Event Calendar 2.0//EN
METHOD:PUBLISH
X-PUBLISHED-TTL:P3D
REFRESH-INTERVAL:P3D
CALSCALE:GREGORIAN
BEGIN:VEVENT
DTSTART:20230930T150000Z
DTEND:20230930T210000Z
X-MICROSOFT-CDO-ALLDAYEVENT:FALSE
SUMMARY:Trolleyfest
DESCRIPTION:Museum visitors will be able to ride on No. 10 and the pump car\, visit the restored Vermont Central caboose\, and Speeder rides will also be available. There will be wooden and electric trains for youngsters to play with. A Morse code demonstration. John Boyd will present a blacksmith demonstration. There will be hands-on demonstrations of cider making\, butter making\, weaving\, and other activities for young folks. There will be some vendors\, music and snacks.
X-ALT-DESC;FMTTYPE=text/html:Museum visitors will be able to ride on No. 10 and the pump car\, visit the restored Vermont Central caboose\, and Speeder rides will also be available. There will be wooden and electric trains for youngsters to play with. A Morse code demonstration. John Boyd will present a blacksmith demonstration. There will be hands-on demonstrations of cider making\, butter making\, weaving\, and other activities for young folks. There will be some vendors\, music and snacks.
LOCATION:Shelburne Falls Trolley Museum 14 Depot Street in Shelburne Falls.
UID:e.2182.20346
SEQUENCE:3
DTSTAMP:20260425T011627Z
URL:https://chamber.franklincc.org/events/details/trolleyfest-20346
END:VEVENT

END:VCALENDAR
