BEGIN:VCALENDAR
VERSION:2.0
PRODID:-//ChamberMaster//Event Calendar 2.0//EN
METHOD:PUBLISH
X-PUBLISHED-TTL:P3D
REFRESH-INTERVAL:P3D
CALSCALE:GREGORIAN
BEGIN:VEVENT
DTSTART:20230929T190000Z
DTEND:20230929T203000Z
X-MICROSOFT-CDO-ALLDAYEVENT:FALSE
SUMMARY:Trees of Peace Tour
DESCRIPTION:Ages 6 to adult. Mohawk Trail State Forest famously features the tallest trees in New England. Marvel at our treasured\, towering white pine trees and learn why they are so important to our forest ecosystem and American history. A lightly uphill hike! About 1.6 miles. Meet at Nature Center near Park Entrance.
X-ALT-DESC;FMTTYPE=text/html:<span style="font-family:georgia\,serif"><span style="font-size:12.0pt">Ages 6 to adult. Mohawk Trail State Forest famously features the tallest trees in New England. Marvel at our treasured\, towering white pine trees and learn why they are so important to our forest ecosystem and American history. A lightly uphill hike! About 1.6 miles. <strong>Meet at Nature Center near Park Entrance.</strong></span></span>
LOCATION:Nature Center at Mohawk Trail State Forest\, 1 Cold River Road/Route 2\, Charlemont\, MA 01339
UID:e.2182.21368
SEQUENCE:3
DTSTAMP:20260425T011258Z
URL:https://chamber.franklincc.org/events/details/trees-of-peace-tour-09-29-2023-21368
END:VEVENT

END:VCALENDAR
