BEGIN:VCALENDAR
VERSION:2.0
PRODID:-//ChamberMaster//Event Calendar 2.0//EN
METHOD:PUBLISH
X-PUBLISHED-TTL:P3D
REFRESH-INTERVAL:P3D
CALSCALE:GREGORIAN
BEGIN:VEVENT
DTSTART:20230317T233000Z
DTEND:20230318T030000Z
X-MICROSOFT-CDO-ALLDAYEVENT:FALSE
SUMMARY:Tory Hanna: St. Patty's Birthday Bash
DESCRIPTION:Join Tory Hanna for his St. Patty's Day Birthday Celebration! Tory and his new project\, The Hell Yeah Boyz will be rocking the stage at Hawks & Reed all night. Don't forget to wear your fabulous leprechaun outfit. 'Leprechaun Look' Costume Contest - $100 cash prize goes to the winner!\n\n\n\nDoors open at 7:30 p.m.\n\n\n\nShow 8:00 p.m.
X-ALT-DESC;FMTTYPE=text/html:J<span style="font-size:14px\;"><span style="font-family:arial\;">oin Tory Hanna for his St. Patty&#39\;s Day Birthday Celebration! Tory and his new project\, <strong>The Hell Yeah Boyz</strong> will be rocking the stage at Hawks &amp\; Reed all night. Don&#39\;t forget to wear your fabulous leprechaun outfit. <span style="color: rgb(5\, 5\, 5)\;">&#39\;Leprechaun Look&#39\; Costume Contest&nbsp\;</span>- $100 cash prize goes to the winner!<br />\n<br />\nDoors open at 7:30 p.m.<br />\n<br />\nShow 8:00 p.m.</span></span>
LOCATION:Hawks & Reed Ballroom 289 Main St. Greenfield\, MA 01301
UID:e.2182.19457
SEQUENCE:3
DTSTAMP:20260424T230741Z
URL:https://chamber.franklincc.org/events/details/tory-hanna-st-patty-s-birthday-bash-19457
END:VEVENT

END:VCALENDAR
