BEGIN:VCALENDAR
VERSION:2.0
PRODID:-//ChamberMaster//Event Calendar 2.0//EN
METHOD:PUBLISH
X-PUBLISHED-TTL:P3D
REFRESH-INTERVAL:P3D
CALSCALE:GREGORIAN
BEGIN:VEVENT
DTSTART:20250302T190000Z
DTEND:20250302T200000Z
X-MICROSOFT-CDO-ALLDAYEVENT:FALSE
SUMMARY:To Breathe Freely: Tenements of Turners Falls
DESCRIPTION:As the brick blocks went up\, the Turners Falls tenements tested every aspect of the town\, from its ability to deal with disease to what laborers expected from their lot in life. Join DCR staff as we use photographs\, maps and news clippings to step back in time and learn about life in the tenements. Ages 12 and up. Meet in the Great Hall.
X-ALT-DESC;FMTTYPE=text/html:<span style="color:black\;"><span style="font-family:georgia\,serif\;"><span style="font-size:12.0pt\;">As the brick blocks went up\, the Turners Falls tenements tested every aspect of the town\, from its ability to deal with disease to what laborers expected from their lot in life. Join DCR staff as we use photographs\, maps and news clippings to step back in time and learn about life in the tenements. Ages 12 and up. Meet in the Great Hall.</span></span></span>
LOCATION:Great Falls Discovery Center 2 Avenue A Turners Falls\, MA
UID:e.2182.24240
SEQUENCE:3
DTSTAMP:20260423T212105Z
URL:https://chamber.franklincc.org/events/details/to-breathe-freely-tenements-of-turners-falls-24240
END:VEVENT

END:VCALENDAR
