BEGIN:VCALENDAR
VERSION:2.0
PRODID:-//ChamberMaster//Event Calendar 2.0//EN
METHOD:PUBLISH
X-PUBLISHED-TTL:P3D
REFRESH-INTERVAL:P3D
CALSCALE:GREGORIAN
BEGIN:VEVENT
DTSTART;VALUE=DATE:20250922
DTEND;VALUE=DATE:20250923
TRANSP:TRANSPARENT
X-MICROSOFT-CDO-ALLDAYEVENT:TRUE
SUMMARY:THOMAS W. MERRIGAN MEMORIAL SCHOLARSHIP GOLF TOURNAMENT
DESCRIPTION:RESCHEDULED DUE TO WEATHER DIFFICULTIES!!\n\n\n\nThe FOURTH ANNUAL THOMAS W. MERRIGAN MEMORIAL SCHOLARSHIP GOLF TOURNAMENT will be held at the CRUMPIN-FOX CLUB\, Bernardston\, to support Franklin County High School students. \n\n\n\nSchedule of Events:  11:00 am Registration-12:00 Noon Shot Gun Start-5:00PM Banquet. \n\n\n\nThis year we are excited to announce that the Franklin County Bar Association Community Fund\, Inc.  has awarded six - One Thousand ($1\,000.00) Dollar scholarships to graduating seniors. For sponsorship opportunities and golfing participation\, information and registration form\, contact http:// franklincountybar.org. Questions may be emailed to fcbacommunityfund@gmail.com.\n\nCURRENTLY\, GOLFING PARTICIPATION IS FULL  ALTHOUGH  A WAITING LIST IS AVAILABLE.  WE ARE STILL ACCEPTING NON GOLFING SPONSRSHIPS
X-ALT-DESC;FMTTYPE=text/html:<strong>RESCHEDULED DUE TO WEATHER DIFFICULTIES!!<br />\n<br />\nThe FOURTH ANNUAL THOMAS W. MERRIGAN MEMORIAL SCHOLARSHIP GOLF TOURNAMENT will be held at the CRUMPIN-FOX CLUB\, Bernardston\, to support Franklin County High School students.&nbsp\;<br />\n<br />\nSchedule of Events:&nbsp\; 11:00 am Registration-12:00 Noon Shot Gun Start-5:00PM Banquet.&nbsp\;</strong><br />\n<br />\nThis year we are excited to announce that the Franklin County Bar Association Community Fund\, Inc.&nbsp\; has awarded six - One Thousand ($1\,000.00) Dollar scholarships to graduating seniors. For sponsorship opportunities and golfing participation\, information and registration form\, contact <a href="http://franklincountybar.org" target="_blank">http:// franklincountybar.org</a>. Questions may be emailed to <a href="mailto:fcbacommunityfund@gmail.com">fcbacommunityfund@gmail.com</a>.<br />\nCURRENTLY\, GOLFING PARTICIPATION IS FULL&nbsp\; ALTHOUGH&nbsp\; A WAITING LIST IS AVAILABLE.&nbsp\; WE ARE STILL ACCEPTING NON GOLFING SPONSRSHIPS<br />\n&nbsp\;
LOCATION:
UID:e.2182.24204
SEQUENCE:3
DTSTAMP:20260424T045514Z
URL:https://chamber.franklincc.org/events/details/thomas-w-merrigan-memorial-scholarship-golf-tournament-05-05-2025-24204
END:VEVENT

END:VCALENDAR
