BEGIN:VCALENDAR
VERSION:2.0
PRODID:-//ChamberMaster//Event Calendar 2.0//EN
METHOD:PUBLISH
X-PUBLISHED-TTL:P3D
REFRESH-INTERVAL:P3D
CALSCALE:GREGORIAN
BEGIN:VEVENT
DTSTART:20210219T000000Z
DTEND:20210219T020000Z
X-MICROSOFT-CDO-ALLDAYEVENT:FALSE
SUMMARY:The Owls of New England - FREE virtual program
DESCRIPTION:Peter Christoph delivers stunning photographs of his favorite owls combined with stories that entertain\, educate and inspire. Learn the secrets Peter uses to find and photograph owls in their natural habitat.\n\n \n\nChristoph is a well-known wildlife advocate\, naturalist and award-winning wildlife photographer who seeks to raise awareness of the need to conserve bird habitat.  \n\n \n\nThe Friends of the Great Falls Discovery Center and Peter Christoph are inviting you to a scheduled Zoom meeting.\n\n  \n\nJoin Zoom Meeting\n\nhttps://us02web.zoom.us/j/8685447439\n\n \n\nMeeting ID: 868 544 7439\n\nPasscode: 9xp0w1
X-ALT-DESC;FMTTYPE=text/html:Peter Christoph delivers stunning photographs of his favorite owls combined with stories that entertain\, educate and inspire. Learn the secrets Peter uses to find and photograph owls in their natural habitat.<br />\n&nbsp\;<br />\nChristoph is a well-known wildlife advocate\, naturalist and award-winning wildlife photographer who seeks to raise awareness of the need to conserve bird habitat.&nbsp\;&nbsp\;<br />\n&nbsp\;<br />\n<span style="color:black\;"><span style="font-family:calibri\,sans-serif\;">The Friends of the Great Falls Discovery Center and Peter&nbsp\;Christoph are inviting you to a scheduled Zoom meeting.</span></span><br />\n&nbsp\;&nbsp\;<br />\n<span style="color:black\;"><span style="font-family:calibri\,sans-serif\;">Join Zoom Meeting</span></span><br />\n<span style="color:black\;"><span style="font-family:calibri\,sans-serif\;"><a href="https://us02web.zoom.us/j/8685447439" target="_blank">https://us02web.zoom.us/j/8685447439</a></span></span><br />\n&nbsp\;<br />\n<span style="color:black\;"><span style="font-family:calibri\,sans-serif\;">Meeting ID: 868 544 7439</span></span><br />\n<span style="color:black\;"><span style="font-family:calibri\,sans-serif\;">Passcode: 9xp0w1</span></span>
LOCATION:
UID:e.2182.17795
SEQUENCE:3
DTSTAMP:20260421T010038Z
URL:https://chamber.franklincc.org/events/details/the-owls-of-new-england-free-virtual-program-17795
END:VEVENT

END:VCALENDAR
