BEGIN:VCALENDAR
VERSION:2.0
PRODID:-//ChamberMaster//Event Calendar 2.0//EN
METHOD:PUBLISH
X-PUBLISHED-TTL:P3D
REFRESH-INTERVAL:P3D
CALSCALE:GREGORIAN
BEGIN:VEVENT
DTSTART:20181027T130000Z
DTEND:20181027T160000Z
X-MICROSOFT-CDO-ALLDAYEVENT:FALSE
SUMMARY:The Northfield Monster Dash 5K
DESCRIPTION:A Halloween Themed 5K Fun Run or Bike. The first 75 to sign up (last year we had 90 participants so sign up fast!) are guaranteed our signature monster coffee mug\, and a huge breakfast. gently rolling course\, timed\, marshals at all corners\, Costumes encouraged\, many draw prizes for any costume wearers and for top finishers. Part of the SMAC run series in 2018
X-ALT-DESC;FMTTYPE=text/html:A Halloween Themed 5K Fun Run or Bike. The first 75 to sign up (last year we had 90 participants so sign up fast!) are guaranteed our signature monster coffee mug\, and a huge breakfast. gently rolling course\, timed\, marshals at all corners\, Costumes encouraged\, many draw prizes for any costume wearers and for top finishers. Part of the SMAC run series in 2018
LOCATION:69 Main Street (Town Hall) Northfield\, Ma 01360
UID:e.2182.13192
SEQUENCE:3
DTSTAMP:20260424T224452Z
URL:https://chamber.franklincc.org/events/details/the-northfield-monster-dash-5k-13192
END:VEVENT

END:VCALENDAR
