BEGIN:VCALENDAR
VERSION:2.0
PRODID:-//ChamberMaster//Event Calendar 2.0//EN
METHOD:PUBLISH
X-PUBLISHED-TTL:P3D
REFRESH-INTERVAL:P3D
CALSCALE:GREGORIAN
BEGIN:VEVENT
DTSTART:20210213T190000Z
DTEND:20210213T210000Z
X-MICROSOFT-CDO-ALLDAYEVENT:FALSE
SUMMARY:The Great Falls Part I - Online Event
DESCRIPTION:This is the first half of the documentary. The Great Falls\, Discovery\, Destruction and Preservation in a Massachusetts Town\, the first of the Hidden Landscapes film series\, will be featured in two parts on February 13 and 14 at 2 pm EST. The film begins in Turners Falls\, Massachusetts\, when the town was attempting to expand the runway of its airport. The plan called for the removal of a low hill that contained what Native American tribal representatives identify as a ritual site-a ceremonial stone landscape. The surprising discovery and the on-going effort to understand and protect what is an amazing and historical asset is a dramatic story of environmental and historic preservation.\n\nJoin Doug Harris\, ceremonial stone landscapes researcher\, and director Ted Timreck for the beginning for a five-part film journey of discovery of the forgotten history of the Indigenous cultures of the Northeast. Visit www.nolumbekaproject.org to register.
X-ALT-DESC;FMTTYPE=text/html:<div class="kvgmc6g5 cxmmr5t8 oygrvhab hcukyx3x c1et5uql" style="overflow-wrap: break-word\; margin: 0px\; font-family: &quot\;Segoe UI Historic&quot\;\, &quot\;Segoe UI&quot\;\, Helvetica\, Arial\, sans-serif\; color: rgb(5\, 5\, 5)\; font-size: 15px\; animation-name: none !important\; transition-property: none !important\;">This is the first half of the documentary. The Great Falls\, Discovery\, Destruction and Preservation in a Massachusetts Town\, the first of the Hidden Landscapes film series\, will be featured in two parts on February 13 and 14 at 2 pm EST. The film begins in Turners Falls\, Massachusetts\, when the town was attempting to expand the runway of its airport. The plan called for the removal of a low hill that contained what Native American tribal representatives identify as a ritual site-a ceremonial stone landscape. The surprising discovery and the on-going effort to understand and protect what is an amazing and historical asset is a dramatic story of environmental and historic preservation.</div>\n\n<div class="o9v6fnle cxmmr5t8 oygrvhab hcukyx3x c1et5uql" style="overflow-wrap: break-word\; margin: 0.5em 0px 0px\; font-family: &quot\;Segoe UI Historic&quot\;\, &quot\;Segoe UI&quot\;\, Helvetica\, Arial\, sans-serif\; color: rgb(5\, 5\, 5)\; font-size: 15px\; animation-name: none !important\; transition-property: none !important\;">Join Doug Harris\, ceremonial stone landscapes researcher\, and director Ted Timreck for the beginning for a five-part film journey of discovery of the forgotten history of the Indigenous cultures of the Northeast. Visit&nbsp\;<a class="oajrlxb2 g5ia77u1 qu0x051f esr5mh6w e9989ue4 r7d6kgcz rq0escxv nhd2j8a9 nc684nl6 p7hjln8o kvgmc6g5 cxmmr5t8 oygrvhab hcukyx3x jb3vyjys rz4wbd8a qt6c0cv9 a8nywdso i1ao9s8h esuyzwwr f1sip0of lzcic4wl py34i1dx gpro0wi8" href="http://www.nolumbekaproject.org" rel="nofollow noopener" role="link" style="color: var(--blue-link)\; cursor: pointer\; text-decoration-line: none\; outline: none\; list-style: none\; border-width: 0px\; border-style: initial\; border-color: initial\; padding: 0px\; margin: 0px\; touch-action: manipulation\; background-color: transparent\; text-align: inherit\; display: inline\; -webkit-tap-highlight-color: transparent\; box-sizing: border-box\; font-family: inherit\; animation-name: none !important\; transition-property: none !important\;" tabindex="0" target="_blank">www.nolumbekaproject.org</a>&nbsp\;to register.&nbsp\;</div>\n
LOCATION:
UID:e.2182.17794
SEQUENCE:3
DTSTAMP:20260420T025538Z
URL:https://chamber.franklincc.org/events/details/the-great-falls-part-i-online-event-17794
END:VEVENT

END:VCALENDAR
