BEGIN:VCALENDAR
VERSION:2.0
PRODID:-//ChamberMaster//Event Calendar 2.0//EN
METHOD:PUBLISH
X-PUBLISHED-TTL:P3D
REFRESH-INTERVAL:P3D
CALSCALE:GREGORIAN
BEGIN:VEVENT
DTSTART:20230311T150000Z
DTEND:20230311T170000Z
X-MICROSOFT-CDO-ALLDAYEVENT:FALSE
SUMMARY:The Garden's 94th Birthday
DESCRIPTION:Our gift to you on the 94th Birthday of the GARDEN March 11th is your choice of 2 FREE movies at 10AM: Pee-Wee's Big Adventure (1985)(PG) or Singin' In The Rain (1952)(G). Both films are kid-friendly!\n\n\n\nPee-Wee's Big Adventure (1hr 31 min.) from the mind of director Tim Burton (Beetlejuice and TV's Wednesday) in his debut film and stars Paul Reubens (Blow\, Mystery Men) as Pee-Wee Herman and eccentric man-child who gets his beloved bike stolen in broad daylight. He sets out across the US on the adventure of his life to find the missing bike.\n\n\n\nSingin' In The Rain (1hr. 43 min.) is an MGM Technicolor treasure starring Gene Kelly (An American in Paris\, Inherit the Wind)\, Donald O'Connor (Are You With It?\, Call Me Madam) and Debbie Reynolds (In & Out\, The Unsinkable Molly Brown). A silent film star falls for a chorus girl just as he and his delusionally jealous screen partner are trying to make the difficult transition to talking pictures in 1920s Hollywood.
X-ALT-DESC;FMTTYPE=text/html:Our gift to you on the 94th Birthday of the GARDEN March 11th&nbsp\;is your choice of 2 FREE movies at 10AM: <strong>Pee-Wee&#39\;s Big Adventure</strong> (1985)(PG) or <strong>Singin&#39\; In The Rain</strong> (1952)(G). Both films are kid-friendly!<br />\n<br />\nPee-Wee&#39\;s Big Adventure (1hr 31 min.) from the mind of director Tim Burton (Beetlejuice and TV&#39\;s Wednesday) in his debut film and stars Paul Reubens (Blow\, Mystery Men) as Pee-Wee Herman and eccentric man-child who gets his beloved bike stolen in broad daylight. He sets out across the US on the adventure of his life to find the missing bike.<br />\n<br />\nSingin&#39\; In The Rain (1hr. 43 min.) is an MGM Technicolor treasure starring Gene Kelly (An American in Paris\, Inherit the Wind)\, Donald O&#39\;Connor (Are You With It?\, Call Me Madam) and Debbie Reynolds (In &amp\; Out\, The Unsinkable Molly Brown). A silent film star falls for a chorus girl just as he and his delusionally jealous screen partner are trying to make the difficult transition to talking pictures in 1920s Hollywood.
LOCATION:Greenfield Garden Cinemas 361 Main Street\, Greenfield
UID:e.2182.19474
SEQUENCE:3
DTSTAMP:20260424T220016Z
URL:https://chamber.franklincc.org/events/details/the-garden-s-94th-birthday-19474
END:VEVENT

END:VCALENDAR
