BEGIN:VCALENDAR
VERSION:2.0
PRODID:-//ChamberMaster//Event Calendar 2.0//EN
METHOD:PUBLISH
X-PUBLISHED-TTL:P3D
REFRESH-INTERVAL:P3D
CALSCALE:GREGORIAN
BEGIN:VEVENT
DTSTART:20250607T193000Z
DTEND:20250607T213000Z
X-MICROSOFT-CDO-ALLDAYEVENT:FALSE
SUMMARY:The Dance Studio of Orange - Annual Recital
DESCRIPTION:This beloved event showcases the talent\, artistry\, and passion of the studio's dancers in a two-act program that promises to entertain and inspire. Act I features Alice in Wonderland\, a magical ballet interpretation of Lewis Carroll's classic tale. Audiences will be transported into a world of whimsy and wonder as our ballet students bring familiar characters to life through expressive movement and beautiful choreography. Eva Richard stars as Alice\, with Madalynn Warner as The White Rabbit\, Florian Gordon-Halpern as Jack\, Katy McGinnis as The Queen of Hearts\, Vivienne Soucy as The Mad Hatter\, Madalyn Vescovi as The Cheshire Cat\, Kaylee O'Brien as The Caterpillar\, Mallory Germain as The Dormouse\, and Calleigh Neeland as The March Hare. Act II\, titled School Days\, celebrates the energy and creativity of our dancers through a dynamic mix of styles including tap\, jazz\, modern\, acro\, and hip hop. School Days will open with a high-impact tap production number featuring 30 dancers\, setting the tone for an exhilarating and diverse showcase. This act is a joyful tribute to student life and highlights the versatility and dedication of The Dance Studio's performers. Tickets for the 3:30 PM performance only will be available at the door for $25.00. Cash or check accepted.  The 10:30 am performance is sold out.  Come cheer on our dancers and experience the culmination of a year filled with hard work\, growth\, and artistic achievement. For more information: thedancestudioorange@gmail.com
X-ALT-DESC;FMTTYPE=text/html:This beloved event showcases the talent\, artistry\, and passion of the studio&rsquo\;s dancers in a two-act program that promises to entertain and inspire. Act I features Alice in Wonderland\, a magical ballet interpretation of Lewis Carroll&rsquo\;s classic tale. Audiences will be transported into a world of whimsy and wonder as our ballet students bring familiar characters to life through expressive movement and beautiful choreography. Eva Richard stars as Alice\, with Madalynn Warner as The White Rabbit\, Florian Gordon-Halpern as Jack\, Katy McGinnis as The Queen of Hearts\, Vivienne Soucy as The Mad Hatter\, Madalyn Vescovi as The Cheshire Cat\, Kaylee O&#39\;Brien as The Caterpillar\, Mallory Germain as The Dormouse\, and Calleigh Neeland as The March Hare. Act II\, titled School Days\, celebrates the energy and creativity of our dancers through a dynamic mix of styles including tap\, jazz\, modern\, acro\, and hip hop. School Days will open with a high-impact tap production number featuring 30 dancers\, setting the tone for an exhilarating and diverse showcase. This act is a joyful tribute to student life and highlights the versatility and dedication of The Dance Studio&rsquo\;s performers. Tickets for the 3:30 PM performance only will be available at the door for $25.00. Cash or check accepted.&nbsp\; The 10:30 am performance is sold out.&nbsp\; Come cheer on our dancers and experience the culmination of a year filled with hard work\, growth\, and artistic achievement. For more information: thedancestudioorange@gmail.com&nbsp\;&nbsp\;
LOCATION:Ralph C. Mahar Regional High School 507 South Main Street\, Orange\, MA 01364
UID:e.2182.24809
SEQUENCE:3
DTSTAMP:20260423T224743Z
URL:https://chamber.franklincc.org/events/details/the-dance-studio-of-orange-annual-recital-24809
END:VEVENT

END:VCALENDAR
