BEGIN:VCALENDAR
VERSION:2.0
PRODID:-//ChamberMaster//Event Calendar 2.0//EN
METHOD:PUBLISH
X-PUBLISHED-TTL:P3D
REFRESH-INTERVAL:P3D
CALSCALE:GREGORIAN
BEGIN:VEVENT
DTSTART:20231021T230000Z
DTEND:20231022T010000Z
X-MICROSOFT-CDO-ALLDAYEVENT:FALSE
SUMMARY:The Biggest Little Farm Film and Panel Discission
DESCRIPTION:Celebrate our farms! A hit at major film festivals from Telluride to Toronto\, the film documents John and Molly Chester's 8-year quest to transform 200 barren acres\, one problem-solving puzzle at a time\, into a diverse farm in harmony with nature. A Post-film Panel discussion and Q & A. Join a panel of farm educators from our region and bring your ideas for supporting our local farms! 2018. John Chester\, Molly Chester. Director: John Chester. Color. 91 min. PG Pre-Film Music: Sat. 7 pm Gabriel Fisher  Blues/Rock/Folk-inspired guitar
X-ALT-DESC;FMTTYPE=text/html:Celebrate our farms! A hit at major film festivals from Telluride to Toronto\, the film documents John and Molly Chester&rsquo\;s 8-year quest to transform 200 barren acres\, one problem-solving puzzle at a time\, into a diverse farm in harmony with nature. A Post-film Panel discussion and Q &amp\; A. Join a panel of farm educators from our region and bring your ideas for supporting our local farms! 2018. John Chester\, Molly Chester. Director: John Chester. Color. 91 min. PG Pre-Film Music: Sat. 7 pm Gabriel Fisher &mdash\;Blues/Rock/Folk-inspired guitar
LOCATION:Memorial Hall\, 51 Bridge St\, Shelburne Falls\, MA 01370
UID:e.2182.22256
SEQUENCE:3
DTSTAMP:20260424T235651Z
URL:https://chamber.franklincc.org/events/details/the-biggest-little-farm-film-and-panel-discission-22256
END:VEVENT

END:VCALENDAR
