BEGIN:VCALENDAR
VERSION:2.0
PRODID:-//ChamberMaster//Event Calendar 2.0//EN
METHOD:PUBLISH
X-PUBLISHED-TTL:P3D
REFRESH-INTERVAL:P3D
CALSCALE:GREGORIAN
BEGIN:VEVENT
DTSTART:20241107T000000Z
DTEND:20241107T023000Z
X-MICROSOFT-CDO-ALLDAYEVENT:FALSE
SUMMARY:The Art of Makam Music Workshop Series
DESCRIPTION:Weathervane Community Arts presents a series of six classes exploring the modal\, improvisational system of Turkish music known as makam. This system not only forms the basis of Turkish classical and folk music\, but is also foundational in Balkan\, Middle Eastern\, Greek\, and other Mediterranean music.\n\n\n\nBoston based teacher Tev Stevig (www.tevstevig.com) is an internationally acclaimed musician and expert on traditional modal music. The New York Music Daily has called him "one of the world's most brilliantly individualistic guitarists."\n\n\n\nWe will begin by understanding basic principles for listening\, performing\, composing\, and improvising in makam\, and then apply what we have learned in the study of several basic makams (melody types) with varied repertoire. The class will culminate in a (optional) student performance.\n\n\n\nVocalists\, instrumentalists\, and listeners of all skill levels are welcome   no previous experience is required\, although a basic understanding of Western music concepts will be helpful. Sight reading is not required.\n\n\n\nThe classes will be held on Wednesday evenings (10/9\, 10/16\, 11/6\, 11/20\, 12/4\, 12/11) from 7:30-9pm\,
X-ALT-DESC;FMTTYPE=text/html:Weathervane Community Arts presents a series of six classes exploring the modal\, improvisational system of Turkish music known as makam. This system not only forms the basis of Turkish classical and folk music\, but is also foundational in Balkan\, Middle Eastern\, Greek\, and other Mediterranean music.<br />\n<br />\nBoston based teacher Tev Stevig (www.tevstevig.com) is an internationally acclaimed musician and expert on traditional modal music. The New York Music Daily has called him &quot\;one of the world&#39\;s most brilliantly individualistic guitarists.&quot\;<br />\n<br />\nWe will begin by understanding basic principles for listening\, performing\, composing\, and improvising in makam\, and then apply what we have learned in the study of several basic makams (melody types) with varied repertoire. The class will culminate in a (optional) student performance.<br />\n<br />\nVocalists\, instrumentalists\, and listeners of all skill levels are welcome &ndash\; no previous experience is required\, although a basic understanding of Western music concepts will be helpful. Sight reading is not required.<br />\n<br />\nThe classes will be held on Wednesday evenings (10/9\, 10/16\, 11/6\, 11/20\, 12/4\, 12/11) from 7:30-9pm\,&nbsp\;&nbsp\;
LOCATION:At the Montague Common Hall in Montague Center\, MA.
UID:e.2182.23783
SEQUENCE:3
DTSTAMP:20260424T032113Z
URL:https://chamber.franklincc.org/events/details/the-art-of-makam-music-workshop-series-23783
END:VEVENT

END:VCALENDAR
