BEGIN:VCALENDAR
VERSION:2.0
PRODID:-//ChamberMaster//Event Calendar 2.0//EN
METHOD:PUBLISH
X-PUBLISHED-TTL:P3D
REFRESH-INTERVAL:P3D
CALSCALE:GREGORIAN
BEGIN:VEVENT
DTSTART:20230210T220000Z
DTEND:20230211T000000Z
X-MICROSOFT-CDO-ALLDAYEVENT:FALSE
SUMMARY:The 3 Billy Goats Gruff: In Silhouette
DESCRIPTION:A pop-up window theatre\, The 3 Billy Goats Gruff: In Silhouette retells the humorous folktale through the enchanted world of shadow puppetry. The show is staged in the windows of Source Studios and presented every 15 minutes. You can watch from the sidewalk in front of the GCC building. *This program is supported by grants from the Leyden\, Colrain\, Gill\, Greenfield\, Conway\, Bernardston\, and Sunderland Cultural Councils\, local agencies which are supported by the Mass Cultural Council\, a state agency.*
X-ALT-DESC;FMTTYPE=text/html:A pop-up window theatre\, <strong>The 3 Billy Goats Gruff: In Silhouette</strong> retells the humorous folktale through the enchanted world of shadow puppetry. The show is staged in the windows of Source Studios and presented every 15 minutes. You can watch from the sidewalk in front of the GCC building. *This program is supported by grants from the Leyden\, Colrain\, Gill\, Greenfield\, Conway\, Bernardston\, and Sunderland Cultural Councils\, local agencies which are supported by the Mass Cultural Council\, a state agency.*
LOCATION:267 Main St\, Greenfield
UID:e.2182.19420
SEQUENCE:3
DTSTAMP:20260424T202532Z
URL:https://chamber.franklincc.org/events/details/the-3-billy-goats-gruff-in-silhouette-19420
END:VEVENT

END:VCALENDAR
