BEGIN:VCALENDAR
VERSION:2.0
PRODID:-//ChamberMaster//Event Calendar 2.0//EN
METHOD:PUBLISH
X-PUBLISHED-TTL:P3D
REFRESH-INTERVAL:P3D
CALSCALE:GREGORIAN
BEGIN:VEVENT
DTSTART:20201125T140000Z
DTEND:20201125T190000Z
X-MICROSOFT-CDO-ALLDAYEVENT:FALSE
SUMMARY:Thanksgiving Pie Sale
DESCRIPTION:Apple $12       Blueberry  $13\n\nSugar-free available by reservation\n\nOur pies contain no butter or eggs\n\nPlease call Jean at 413-773-7624 to reserve your pie(s). If you need to leave a message please eave your phone. Remember along with your name so we may contact you.
X-ALT-DESC;FMTTYPE=text/html:Apple $12&nbsp\; &nbsp\; &nbsp\; &nbsp\;Blueberry&nbsp\; $13<br />\nSugar-free available by reservation<br />\nOur pies contain no butter or eggs<br />\nPlease call Jean at 413-773-7624 to reserve your pie(s). If you need to leave a message please eave your phone. Remember along with your name so we may contact you.
LOCATION:Robbins Church Munson Street\, Greenfield
UID:e.2182.17674
SEQUENCE:3
DTSTAMP:20260421T221736Z
URL:https://chamber.franklincc.org/events/details/thanksgiving-pie-sale-11-25-2020-17674
END:VEVENT

END:VCALENDAR
