BEGIN:VCALENDAR
VERSION:2.0
PRODID:-//ChamberMaster//Event Calendar 2.0//EN
METHOD:PUBLISH
X-PUBLISHED-TTL:P3D
REFRESH-INTERVAL:P3D
CALSCALE:GREGORIAN
BEGIN:VEVENT
DTSTART:20181122T170000Z
DTEND:20181122T220000Z
X-MICROSOFT-CDO-ALLDAYEVENT:FALSE
SUMMARY:Thanksgiving for the People
DESCRIPTION:The People's Pint 6th annual Thanksgiving for the People! Please join us on Thanksgiving Day for a traditional holiday meal for the whole family and community. Pay what you can and all profits will be donated to The Food Bank of Western Massachusetts and other local charities.
X-ALT-DESC;FMTTYPE=text/html:The People&#39\;s Pint 6th annual Thanksgiving for the People! Please join us on Thanksgiving Day for a traditional holiday meal for the whole family and community. Pay what you can and all profits will be donated to The Food Bank of Western Massachusetts and other local charities.
LOCATION:The People's Pint\, 24 Federal St\, Greenfield MA 01301
UID:e.2182.13460
SEQUENCE:3
DTSTAMP:20260424T212037Z
URL:https://chamber.franklincc.org/events/details/thanksgiving-for-the-people-13460
END:VEVENT

END:VCALENDAR
