BEGIN:VCALENDAR
VERSION:2.0
PRODID:-//ChamberMaster//Event Calendar 2.0//EN
METHOD:PUBLISH
X-PUBLISHED-TTL:P3D
REFRESH-INTERVAL:P3D
CALSCALE:GREGORIAN
BEGIN:VEVENT
DTSTART:20181122T170000Z
DTEND:20181122T200000Z
X-MICROSOFT-CDO-ALLDAYEVENT:FALSE
SUMMARY:Thanksgiving Dinner at Stone Soup Cafe
DESCRIPTION:Thanksgiving Dinner at Stone Soup's Family Friendly\, Pay-What-You-Can Cafe! Let us do the cooking so you can be with your family\, make friends\, and enjoy an inclusive community meal! Holiday themed crafts for kids. Presented by Stone Soup Cafe and the United Arc.
X-ALT-DESC;FMTTYPE=text/html:Thanksgiving Dinner at Stone Soup&#39\;s Family Friendly\, Pay-What-You-Can Cafe! Let us do the cooking so you can be with your family\, make friends\, and enjoy an inclusive community meal! Holiday themed crafts for kids. Presented by Stone Soup Cafe and the United Arc.
LOCATION:Stone Soup Cafe at Unitarian Church 399 Hope St\, Greenfield\, MA
UID:e.2182.13476
SEQUENCE:3
DTSTAMP:20260422T055938Z
URL:https://chamber.franklincc.org/events/details/thanksgiving-dinner-at-stone-soup-cafe-13476
END:VEVENT

END:VCALENDAR
