BEGIN:VCALENDAR
VERSION:2.0
PRODID:-//ChamberMaster//Event Calendar 2.0//EN
METHOD:PUBLISH
X-PUBLISHED-TTL:P3D
REFRESH-INTERVAL:P3D
CALSCALE:GREGORIAN
BEGIN:VEVENT
DTSTART:20181013T000000Z
DTEND:20181013T020000Z
X-MICROSOFT-CDO-ALLDAYEVENT:FALSE
SUMMARY:TapRoots with Rebirth
DESCRIPTION:TapRoots blends of rock\, reggae\, salsa\, soul\, fokloric rhythms and beyond. Rebirth belnds Afro-influenced folk\, funk\, soul\, reggae\, Latin\, and hip-hop.
X-ALT-DESC;FMTTYPE=text/html:TapRoots blends of rock\, reggae\, salsa\, soul\, fokloric rhythms and beyond. Rebirth belnds Afro-influenced folk\, funk\, soul\, reggae\, Latin\, and hip-hop.
LOCATION:Hawks & Reed Performing Arts Center 289 Main Street\, Greenfield
UID:e.2182.13303
SEQUENCE:3
DTSTAMP:20260424T224531Z
URL:https://chamber.franklincc.org/events/details/taproots-with-rebirth-13303
END:VEVENT

END:VCALENDAR
