BEGIN:VCALENDAR
VERSION:2.0
PRODID:-//ChamberMaster//Event Calendar 2.0//EN
METHOD:PUBLISH
X-PUBLISHED-TTL:P3D
REFRESH-INTERVAL:P3D
CALSCALE:GREGORIAN
BEGIN:VEVENT
DTSTART:20200830T160000Z
DTEND:20200830T180000Z
X-MICROSOFT-CDO-ALLDAYEVENT:FALSE
SUMMARY:Takeout-style Chicken Barbecue
DESCRIPTION:Sponsored by Holy Name of Jesus Parish.\n\nMenu includes: chicken\, baked potato\, corn\, Texas-style baked beans\, salad\, corn bread and dessert.\n\nRaffle prizes avaialble.
X-ALT-DESC;FMTTYPE=text/html:<p>Sponsored by Holy Name of Jesus Parish.<br />\nMenu includes: chicken\, baked potato\, corn\, Texas-style baked beans\, salad\, corn bread and dessert.<br />\nRaffle prizes avaialble.</p>\n
LOCATION:Holy Name of Jesus Church 15 Thayer Street South Deerfield
UID:e.2182.17648
SEQUENCE:3
DTSTAMP:20260421T122047Z
URL:https://chamber.franklincc.org/events/details/takeout-style-chicken-barbecue-17648
END:VEVENT

END:VCALENDAR
