BEGIN:VCALENDAR
VERSION:2.0
PRODID:-//ChamberMaster//Event Calendar 2.0//EN
METHOD:PUBLISH
X-PUBLISHED-TTL:P3D
REFRESH-INTERVAL:P3D
CALSCALE:GREGORIAN
BEGIN:VEVENT
DTSTART:20200822T210000Z
DTEND:20200822T223000Z
X-MICROSOFT-CDO-ALLDAYEVENT:FALSE
SUMMARY:Takeout Ham Supper
DESCRIPTION:Presented by the First Congregational Church.\n\nMenu:  ham with pineapple salsa\, potato salad\, copper penny salad\, homemade bread and butter\, and blueberry cake.
X-ALT-DESC;FMTTYPE=text/html:Presented by the First Congregational Church.<br />\nMenu:&nbsp\; ham with pineapple salsa\, potato salad\, copper penny salad\, homemade bread and butter\, and blueberry cake.
LOCATION:First Congregational Church of Montague 4 North Street Montague
UID:e.2182.17649
SEQUENCE:3
DTSTAMP:20260422T000031Z
URL:https://chamber.franklincc.org/events/details/takeout-ham-supper-17649
END:VEVENT

END:VCALENDAR
