BEGIN:VCALENDAR
VERSION:2.0
PRODID:-//ChamberMaster//Event Calendar 2.0//EN
METHOD:PUBLISH
X-PUBLISHED-TTL:P3D
REFRESH-INTERVAL:P3D
CALSCALE:GREGORIAN
BEGIN:VEVENT
DTSTART:20230323T213000Z
DTEND:20230323T233000Z
X-MICROSOFT-CDO-ALLDAYEVENT:FALSE
SUMMARY:Take the Floor Entrepreneur Pitch Contest
DESCRIPTION:Our Take the Floor pitch contests invite participants to share innovative ideas from budding entrepreneurs. You will have five minutes at Take The Floor to do just that take the floor and deliver an "elevator" pitch for your business idea! A panel of judges will engage you in a brief Q & A. Audience participants and judges will vote to determine winning pitches for that evening's contest winners proceed to a final pitch event with the opportunity to compete for $3000 in prize money to support their business. Sign up online to pitch! https://www.gcc.mass.edu/ttf
X-ALT-DESC;FMTTYPE=text/html:<span style="color: rgb(5\, 5\, 5)\; font-family: &quot\;Segoe UI Historic&quot\;\, &quot\;Segoe UI&quot\;\, Helvetica\, Arial\, sans-serif\; font-size: 15px\;">Our Take the Floor pitch contests invite participants to share innovative ideas from budding entrepreneurs. You will have five minutes at Take The Floor to do just that&mdash\;take the floor and deliver an &quot\;elevator&quot\; pitch for your business idea! A panel of judges will engage you in a brief Q &amp\; A. Audience participants and judges will vote to determine winning pitches for that evening&#39\;s contest&mdash\;winners proceed to a final pitch event with the opportunity to compete for $3000 in prize money to support their business. Sign up online to pitch!&nbsp\;</span><a class="x1i10hfl xjbqb8w x6umtig x1b1mbwd xaqea5y xav7gou x9f619 x1ypdohk xt0psk2 xe8uvvx xdj266r x11i5rnm xat24cr x1mh8g0r xexx8yu x4uap5 x18d9i69 xkhd6sd x16tdsg8 x1hl2dhg xggy1nq x1a2a7pz xt0b8zv x1fey0fg" href="https://www.gcc.mass.edu/ttf" rel="nofollow" role="link" style="color: var(--blue-link)\; cursor: pointer\; text-decoration-line: none\; margin: 0px\; padding: 0px\; outline: none\; border-width: 0px\; border-style: initial\; border-color: initial\; -webkit-tap-highlight-color: transparent\; box-sizing: border-box\; list-style: none\; touch-action: manipulation\; display: inline\; font-family: &quot\;Segoe UI Historic&quot\;\, &quot\;Segoe UI&quot\;\, Helvetica\, Arial\, sans-serif\; font-size: 15px\;" tabindex="0" target="_blank">https://www.gcc.mass.edu/ttf</a>
LOCATION:Greenspace CoWork (above Hawks & Reed) 289 Main Street\, Greenfield
UID:e.2182.19413
SEQUENCE:3
DTSTAMP:20260424T215312Z
URL:https://chamber.franklincc.org/events/details/take-the-floor-entrepreneur-pitch-contest-19413
END:VEVENT

END:VCALENDAR
