BEGIN:VCALENDAR
VERSION:2.0
PRODID:-//ChamberMaster//Event Calendar 2.0//EN
METHOD:PUBLISH
X-PUBLISHED-TTL:P3D
REFRESH-INTERVAL:P3D
CALSCALE:GREGORIAN
BEGIN:VEVENT
DTSTART:20230506T130000Z
DTEND:20230506T170000Z
X-MICROSOFT-CDO-ALLDAYEVENT:FALSE
SUMMARY:Tag\, Raffle\, Jewelry\, Bake Sale
DESCRIPTION:Annual Spring Tag Sale is presented by the Rosary Sodality of Blessed Trinity Church. Featuring all sort of households good\, etc.
X-ALT-DESC;FMTTYPE=text/html:Annual Spring Tag Sale is presented by the Rosary Sodality of Blessed Trinity Church. Featuring all sort of households good\, etc.<br />\n&nbsp\;
LOCATION:Father Casey Hall at Blessed Trinity Church
UID:e.2182.19694
SEQUENCE:3
DTSTAMP:20260425T002514Z
URL:https://chamber.franklincc.org/events/details/tag-raffle-jewelry-bake-sale-05-06-2023-19694
END:VEVENT

END:VCALENDAR
