BEGIN:VCALENDAR
VERSION:2.0
PRODID:-//ChamberMaster//Event Calendar 2.0//EN
METHOD:PUBLISH
X-PUBLISHED-TTL:P3D
REFRESH-INTERVAL:P3D
CALSCALE:GREGORIAN
BEGIN:VEVENT
DTSTART:20250524T120000Z
DTEND:20250524T163000Z
X-MICROSOFT-CDO-ALLDAYEVENT:FALSE
SUMMARY:Tag\, Plant and Clothing Sale
DESCRIPTION:Lots of great treasures.\n\nPlants.\n\nGently Used CLothing.
X-ALT-DESC;FMTTYPE=text/html:Lots of great treasures.<br />\nPlants.<br />\nGently Used CLothing.
LOCATION:First Congregational Church of Montague 4 North Street\, Montague
UID:e.2182.24700
SEQUENCE:3
DTSTAMP:20260423T204622Z
URL:https://chamber.franklincc.org/events/details/tag-plant-and-clothing-sale-24700
END:VEVENT

END:VCALENDAR
