BEGIN:VCALENDAR
VERSION:2.0
PRODID:-//ChamberMaster//Event Calendar 2.0//EN
METHOD:PUBLISH
X-PUBLISHED-TTL:P3D
REFRESH-INTERVAL:P3D
CALSCALE:GREGORIAN
BEGIN:VEVENT
DTSTART:20230507T180000Z
DTEND:20230507T220000Z
X-MICROSOFT-CDO-ALLDAYEVENT:FALSE
SUMMARY:Swing Sundays at Hawks and Reed
DESCRIPTION:Doors 2:30\, Dance Lesson 3-4\, Band 4-6
X-ALT-DESC;FMTTYPE=text/html:<span style="color: rgb(68\, 68\, 68)\; font-family: &quot\;Open Sans&quot\;\, sans-serif\; font-size: 16px\;">Doors 2:30\, Dance Lesson 3-4\, Band 4-6</span><br />\n&nbsp\;
LOCATION:Hawks & Reed Performing Arts Center Ballroom
UID:e.2182.19568
SEQUENCE:3
DTSTAMP:20260425T002320Z
URL:https://chamber.franklincc.org/events/details/swing-sundays-at-hawks-and-reed-19568
END:VEVENT

END:VCALENDAR
