BEGIN:VCALENDAR
VERSION:2.0
PRODID:-//ChamberMaster//Event Calendar 2.0//EN
METHOD:PUBLISH
X-PUBLISHED-TTL:P3D
REFRESH-INTERVAL:P3D
CALSCALE:GREGORIAN
BEGIN:VEVENT
DTSTART:20210207T220000Z
DTEND:20210208T000000Z
X-MICROSOFT-CDO-ALLDAYEVENT:FALSE
SUMMARY:SUNDAY NIGHT COMMUNITY SUPPER
DESCRIPTION:Each week Hope & Olive will give away a free meal to anyone who would like it. Just walk in and ask for it. It?s Free.\n\nRequest a meal for One or for a family- there is no limit- first come\, first served\, until we run out!\n\nPick up between 5-7pm\n\nPlease share this with folks who might want to take advantage of it.\n\nWant to ask questions? Please write us\, or call. 413 774 3150
X-ALT-DESC;FMTTYPE=text/html:<div class="kvgmc6g5 cxmmr5t8 oygrvhab hcukyx3x c1et5uql" style="overflow-wrap: break-word\; margin: 0px\; font-family: &quot\;Segoe UI Historic&quot\;\, &quot\;Segoe UI&quot\;\, Helvetica\, Arial\, sans-serif\; color: rgb(5\, 5\, 5)\; font-size: 15px\; animation-name: none !important\; transition-property: none !important\;">Each week Hope &amp\; Olive will give away a free meal to anyone who would like it. Just walk in and ask for it. It?s Free.</div>\n\n<div class="o9v6fnle cxmmr5t8 oygrvhab hcukyx3x c1et5uql" style="overflow-wrap: break-word\; margin: 0.5em 0px 0px\; font-family: &quot\;Segoe UI Historic&quot\;\, &quot\;Segoe UI&quot\;\, Helvetica\, Arial\, sans-serif\; color: rgb(5\, 5\, 5)\; font-size: 15px\; animation-name: none !important\; transition-property: none !important\;">Request a meal for One or for a family- there is no limit- first come\, first served\, until we run out!<br style="animation-name: none !important\; transition-property: none !important\;" />\nPick up between 5-7pm</div>\n\n<div class="o9v6fnle cxmmr5t8 oygrvhab hcukyx3x c1et5uql" style="overflow-wrap: break-word\; margin: 0.5em 0px 0px\; font-family: &quot\;Segoe UI Historic&quot\;\, &quot\;Segoe UI&quot\;\, Helvetica\, Arial\, sans-serif\; color: rgb(5\, 5\, 5)\; font-size: 15px\; animation-name: none !important\; transition-property: none !important\;">Please share this with folks who might want to take advantage of it.</div>\n\n<div class="o9v6fnle cxmmr5t8 oygrvhab hcukyx3x c1et5uql" style="overflow-wrap: break-word\; margin: 0.5em 0px 0px\; font-family: &quot\;Segoe UI Historic&quot\;\, &quot\;Segoe UI&quot\;\, Helvetica\, Arial\, sans-serif\; color: rgb(5\, 5\, 5)\; font-size: 15px\; animation-name: none !important\; transition-property: none !important\;">Want to ask questions? Please write us\, or call. 413 774 3150</div>\n
LOCATION:44 Hope Street Greenfield MA 01301
UID:e.2182.17790
SEQUENCE:3
DTSTAMP:20260420T081946Z
URL:https://chamber.franklincc.org/events/details/sunday-night-community-supper-17790
END:VEVENT

END:VCALENDAR
