BEGIN:VCALENDAR
VERSION:2.0
PRODID:-//ChamberMaster//Event Calendar 2.0//EN
METHOD:PUBLISH
X-PUBLISHED-TTL:P3D
REFRESH-INTERVAL:P3D
CALSCALE:GREGORIAN
BEGIN:VEVENT
DTSTART;VALUE=DATE:20241006
DTEND;VALUE=DATE:20241007
TRANSP:TRANSPARENT
X-MICROSOFT-CDO-ALLDAYEVENT:TRUE
SUMMARY:StoryWalk®: Call Me Tree\, Llámame Árbol
DESCRIPTION:Enjoy a story\, fresh air and exercise! Join us on the center's grounds for a free self-guided StoryWalk  featuring the children's picture book Call Me Tree\, Ll mame  rbol by Maya Christina Gonzalez for readers ages 5-9 years old and everyone who celebrates trees. Follow the path to book pages posted along the route. The StoryWalk  Project was created by Anne Ferguson of Montpelier\, VT\, and developed in collaboration with the Kellogg-Hubbard Library. Story Walk  is a registered service mark owned by Ms. Ferguson. This StoryWalk  is provided by Massachusetts Department of Conservation and Recreation Interpretive Services.
X-ALT-DESC;FMTTYPE=text/html:Enjoy a story\, fresh air and exercise! Join us on the center&rsquo\;s grounds for a free self-guided StoryWalk&reg\; featuring the children&rsquo\;s picture book Call Me Tree\, Ll&aacute\;mame &Aacute\;rbol by Maya Christina Gonzalez for readers ages 5-9 years old and everyone who celebrates trees. Follow the path to book pages posted along the route. The StoryWalk&reg\; Project was created by Anne Ferguson of Montpelier\, VT\, and developed in collaboration with the Kellogg-Hubbard Library. Story Walk&reg\; is a registered service mark owned by Ms. Ferguson. This StoryWalk&reg\; is provided by Massachusetts Department of Conservation and Recreation Interpretive Services.
LOCATION:Great Falls Discovery Center 2 Avenue A Turners Falls\, MA
UID:e.2182.23692
SEQUENCE:3
DTSTAMP:20260424T063105Z
URL:https://chamber.franklincc.org/events/details/storywalk-call-me-tree-ll&#225;mame-&#225;rbol-10-06-2024-23692
END:VEVENT

END:VCALENDAR
