BEGIN:VCALENDAR
VERSION:2.0
PRODID:-//ChamberMaster//Event Calendar 2.0//EN
METHOD:PUBLISH
X-PUBLISHED-TTL:P3D
REFRESH-INTERVAL:P3D
CALSCALE:GREGORIAN
BEGIN:VEVENT
DTSTART:20250109T203000Z
DTEND:20250109T213000Z
X-MICROSOFT-CDO-ALLDAYEVENT:FALSE
SUMMARY:Storytimes with Mya and Winston
DESCRIPTION:Join the library's new friends Mya and Winston the dog on Thursdays in January for a storytime\, meet and greet\, and talk about service dogs.\n\nF
X-ALT-DESC;FMTTYPE=text/html:<p style="box-sizing: border-box\; margin: 0px 0px 1.2em\; color: rgb(0\, 0\, 0)\; font-family: josefin-sans\, sans-serif\; font-size: 20px\;"><span style="font-size:14px\;"><span style="box-sizing: border-box\;">Join the library&rsquo\;s new friends Mya and Winston the dog on Thursdays in January for a storytime\, meet and greet\, and talk about service dogs.</span></span></p>\n\n<p style="box-sizing: border-box\; margin: 0px 0px 1.2em\; color: rgb(0\, 0\, 0)\; font-family: josefin-sans\, sans-serif\; font-size: 20px\;"><span style="box-sizing: border-box\;">F</span></p>\n
LOCATION:Greenfield Public Library 412 Main Street\, Greenfield
UID:e.2182.24186
SEQUENCE:3
DTSTAMP:20260424T001219Z
URL:https://chamber.franklincc.org/events/details/storytimes-with-mya-and-winston-24186
END:VEVENT

END:VCALENDAR
