BEGIN:VCALENDAR
VERSION:2.0
PRODID:-//ChamberMaster//Event Calendar 2.0//EN
METHOD:PUBLISH
X-PUBLISHED-TTL:P3D
REFRESH-INTERVAL:P3D
CALSCALE:GREGORIAN
BEGIN:VEVENT
DTSTART:20241112T163000Z
DTEND:20241112T165000Z
X-MICROSOFT-CDO-ALLDAYEVENT:FALSE
SUMMARY:Storytime with Santa at Yankee Candle Village
DESCRIPTION:It's Storytime With Santa! Snuggle up for fun holiday tales with Santa himself in the Toy Shop at Yankee Candle Village. Storytime is every Monday through Thursday at 11:30am. This is a FREE event and no reservation is needed.
X-ALT-DESC;FMTTYPE=text/html:<span style="color: rgb(8\, 8\, 9)\; font-family: &quot\;Segoe UI Historic&quot\;\, &quot\;Segoe UI&quot\;\, Helvetica\, Arial\, sans-serif\; font-size: 15px\;">It&#39\;s Storytime With Santa! Snuggle up for fun holiday tales with Santa himself in the Toy Shop at Yankee Candle Village. Storytime is every Monday through Thursday at 11:30am. This is a FREE event and no reservation is needed.</span>
LOCATION:Yankee Candle Village 25 Greenfield Road\, South Deerfield
UID:e.2182.23923
SEQUENCE:3
DTSTAMP:20260424T045622Z
URL:https://chamber.franklincc.org/events/details/storytime-with-santa-at-yankee-candle-village-11-12-2024-23923
END:VEVENT

END:VCALENDAR
