BEGIN:VCALENDAR
VERSION:2.0
PRODID:-//ChamberMaster//Event Calendar 2.0//EN
METHOD:PUBLISH
X-PUBLISHED-TTL:P3D
REFRESH-INTERVAL:P3D
CALSCALE:GREGORIAN
BEGIN:VEVENT
DTSTART:20230830T193000Z
DTEND:20230830T203000Z
X-MICROSOFT-CDO-ALLDAYEVENT:FALSE
SUMMARY:Storytime with Ellen Lavoie
DESCRIPTION:Preschool kids\, meet and make new friends!\n\n\n\nJoin Children's Librarian\, Ellen Lavoie for stories\, songs\, and activities designed to support early learning on Wednesdays at 3:30 pm in the new Children's Room.\n\n\n\nRecommended ages for this 30   45 minute program is 3 -5 years.\n\n\n\nFor more information\, contact Children's Librarian Ellen Lavoie at ellen.lavoie@greenfield-ma.gov or call (413) 772-1544 x5104.\n\n\n\nThis program\, made possible through the generosity of the Friends of the Greenfield Public Library\, is free and open to the public.
X-ALT-DESC;FMTTYPE=text/html:Preschool kids\, meet and make new friends!<br />\n<br />\nJoin Children&rsquo\;s Librarian\, Ellen Lavoie for stories\, songs\, and activities designed to support early learning on Wednesdays at 3:30 pm in the new Children&rsquo\;s Room.<br />\n<br />\nRecommended ages for this 30 &ndash\; 45 minute program is 3 -5 years.<br />\n<br />\nFor more information\, contact Children&rsquo\;s Librarian Ellen Lavoie at ellen.lavoie@greenfield-ma.gov or call (413) 772-1544 x5104.<br />\n<br />\nThis program\, made possible through the generosity of the Friends of the Greenfield Public Library\, is free and open to the public.
LOCATION:Greenfield Public Library\,
UID:e.2182.20286
SEQUENCE:3
DTSTAMP:20260425T023401Z
URL:https://chamber.franklincc.org/events/details/storytime-with-ellen-lavoie-08-30-2023-20286
END:VEVENT

END:VCALENDAR
