BEGIN:VCALENDAR
VERSION:2.0
PRODID:-//ChamberMaster//Event Calendar 2.0//EN
METHOD:PUBLISH
X-PUBLISHED-TTL:P3D
REFRESH-INTERVAL:P3D
CALSCALE:GREGORIAN
BEGIN:VEVENT
DTSTART;VALUE=DATE:20250720
DTEND;VALUE=DATE:20250721
TRANSP:TRANSPARENT
X-MICROSOFT-CDO-ALLDAYEVENT:TRUE
SUMMARY:Story Walk - Somewhere in the Ocean
DESCRIPTION:Friends of the Field Memorial Library. July's story walk features "Somewhere in the Ocean" by Jennifer Ward. Activity kits will be set up in a plastic container of a first-come\, first-served basis.\n\n\n\nStory walks happen on the third weekend of each month and are done with support from the Union 38 Family Network.
X-ALT-DESC;FMTTYPE=text/html:Friends of the Field Memorial Library. July&#39\;s story walk features &quot\;Somewhere in the Ocean&quot\; by Jennifer Ward. Activity kits will be set up in a plastic container of a first-come\, first-served basis.<br />\n<br />\nStory walks happen on the third weekend of each month and are done with support from the Union 38 Family Network.
LOCATION:Veterans Memorial Park across from Town Hall Conway
UID:e.2182.24886
SEQUENCE:3
DTSTAMP:20260424T001401Z
URL:https://chamber.franklincc.org/events/details/story-walk-somewhere-in-the-ocean-07-20-2025-24886
END:VEVENT

END:VCALENDAR
