BEGIN:VCALENDAR
VERSION:2.0
PRODID:-//ChamberMaster//Event Calendar 2.0//EN
METHOD:PUBLISH
X-PUBLISHED-TTL:P3D
REFRESH-INTERVAL:P3D
CALSCALE:GREGORIAN
BEGIN:VEVENT
DTSTART:20251025T140000Z
DTEND:20251025T180000Z
X-MICROSOFT-CDO-ALLDAYEVENT:FALSE
SUMMARY:Step Up for Equity in Nature Walk and Celebration
DESCRIPTION:Join us as we fundraise and celebrate to support Eagle Eye Institute's programs in nature for ALL youth!
X-ALT-DESC;FMTTYPE=text/html:Join us as we fundraise and celebrate to support Eagle Eye Institute&#39\;s programs in nature for ALL youth!
LOCATION:Ashley Reservoir\, 250 Whitney Ave.\, Holyoke\, MA 01027
UID:e.2182.25176
SEQUENCE:3
DTSTAMP:20260420T112900Z
URL:https://chamber.franklincc.org/events/details/step-up-for-equity-in-nature-walk-and-celebration-25176
END:VEVENT

END:VCALENDAR
