BEGIN:VCALENDAR
VERSION:2.0
PRODID:-//ChamberMaster//Event Calendar 2.0//EN
METHOD:PUBLISH
X-PUBLISHED-TTL:P3D
REFRESH-INTERVAL:P3D
CALSCALE:GREGORIAN
BEGIN:VEVENT
DTSTART:20241021T220000Z
DTEND:20241022T010000Z
X-MICROSOFT-CDO-ALLDAYEVENT:FALSE
SUMMARY:Spirit Gathering Gallery Dinner with Brandie Wells
DESCRIPTION:Join us for an enchanted evening with Brandie Wells \n\nConnect with Spirit Guides and Angels through Brandie's extraordinary gifts\, emphasizing love and respect. \n\n \n\nBuffet Menu:\n\nincludes fresh rolls\, whipped butter\n\nHerb-Crusted White Fish finished with a sundried tomato butter sauce\n\nSlow Roasted Turkey Breast herb stuffing\, turkey gravy & cranberry relish \n\nVegetable Lasagna Rolls roasted vegetables\, b chamel sauce\, house marinara\, blended cheeses\n\nMarket Vegetables\n\nRoasted Garlic & Herb Potatoes\n\nWarm Apple & Pear Crisp\, spiced crumb topping\, whipped cream\n\nCoffee and assorted hot tea service\n\nReservations needed 413-774-5587 \n\nEvent Timeline\n\n5:30-6:00 pm - Guests Arrive and Check In\n\n6:00-7:00 pm - Guests Grab Food from the Buffet\, Eat\, and Settle In\n\n7:00 pm - Brandie Begins Spirit Gallery Reading\n\n7:45 pm - Brief Break (Guests are Free to get More Food and/or Drinks)\n\n8:00-9:00 pm - Brandie Continues Spirit Gallery Reading\n\n9:00 pm - Event Concludes
X-ALT-DESC;FMTTYPE=text/html:<span style="font-size:14px\;"><span style="font-family:latienne pro\,serif\;">Join us for an enchanted evening with Brandie Wells </span><br />\n<span style="font-family:latienne pro\,serif\;">Connect with Spirit Guides and Angels through Brandie&rsquo\;s extraordinary gifts\, emphasizing love and respect. </span><br />\n&nbsp\;<br />\n<span style="font-family:latienne pro\,serif\;">Buffet Menu:<br />\nincludes fresh rolls\, whipped butter</span><br />\n<span style="font-family:latienne pro\,serif\;">Herb-Crusted White Fish finished with a sundried tomato butter sauce</span><br />\n<span style="font-family:latienne pro\,serif\;">Slow Roasted Turkey Breast herb stuffing\, turkey gravy &amp\; cranberry relish </span><br />\n<span style="font-family:latienne pro\,serif\;">Vegetable Lasagna Rolls roasted vegetables\, b&eacute\;chamel sauce\, house marinara\, blended cheeses</span><br />\n<span style="font-family:latienne pro\,serif\;">Market Vegetables</span><br />\n<span style="font-family:latienne pro\,serif\;">Roasted Garlic &amp\; Herb Potatoes</span><br />\n<span style="font-family:latienne pro\,serif\;">Warm Apple &amp\; Pear Crisp\, spiced crumb topping\, whipped cream</span><br />\n<span style="font-family:latienne pro\,serif\;">Coffee and assorted hot tea service</span><br />\n<span style="font-family:latienne pro\,serif\;">Reservations needed 413-774-5587 </span><br />\n<strong><u><span style="font-family:latienne pro\,serif\;">Event Timeline</span></u></strong><br />\n<span style="font-family:latienne pro\,serif\;">5:30-6:00 pm - Guests Arrive and Check In</span><br />\n<span style="font-family:latienne pro\,serif\;">6:00-7:00 pm - Guests Grab Food from the Buffet\, Eat\, and Settle In</span><br />\n<span style="font-family:latienne pro\,serif\;">7:00 pm - Brandie Begins Spirit Gallery Reading</span><br />\n<span style="font-family:latienne pro\,serif\;">7:45 pm - Brief Break (Guests are Free to get More Food and/or Drinks)</span><br />\n<span style="font-family:latienne pro\,serif\;">8:00-9:00 pm - Brandie Continues Spirit Gallery Reading</span><br />\n<span style="font-family:latienne pro\,serif\;">9:00 pm - Event Concludes</span></span>
LOCATION:Champney's at The Deerfield Inn 81 Old Main Street Deerfield
UID:e.2182.23735
SEQUENCE:3
DTSTAMP:20260424T045333Z
URL:https://chamber.franklincc.org/events/details/spirit-gathering-gallery-dinner-with-brandie-wells-23735
END:VEVENT

END:VCALENDAR
