BEGIN:VCALENDAR
VERSION:2.0
PRODID:-//ChamberMaster//Event Calendar 2.0//EN
METHOD:PUBLISH
X-PUBLISHED-TTL:P3D
REFRESH-INTERVAL:P3D
CALSCALE:GREGORIAN
BEGIN:VEVENT
DTSTART:20210516T140000Z
DTEND:20210516T180000Z
X-MICROSOFT-CDO-ALLDAYEVENT:FALSE
SUMMARY:Special Kringle Cars & Coffee
DESCRIPTION:As part of Hitchcock Brewing's 5-year Anniversary Weekend.
X-ALT-DESC;FMTTYPE=text/html:<span style="color: rgb(5\, 5\, 5)\; font-family: &quot\;Segoe UI Historic&quot\;\, &quot\;Segoe UI&quot\;\, Helvetica\, Arial\, sans-serif\; font-size: 15px\;">As part of Hitchcock Brewing&rsquo\;s 5-year Anniversary Weekend.</span>
LOCATION:Kringle Candle Company 220 South Street\, Bernardston MA
UID:e.2182.18031
SEQUENCE:3
DTSTAMP:20260421T014333Z
URL:https://chamber.franklincc.org/events/details/special-kringle-cars-coffee-18031
END:VEVENT

END:VCALENDAR
