BEGIN:VCALENDAR
VERSION:2.0
PRODID:-//ChamberMaster//Event Calendar 2.0//EN
METHOD:PUBLISH
X-PUBLISHED-TTL:P3D
REFRESH-INTERVAL:P3D
CALSCALE:GREGORIAN
BEGIN:VEVENT
DTSTART:20250814T150000Z
DTEND:20250814T180000Z
X-MICROSOFT-CDO-ALLDAYEVENT:FALSE
SUMMARY:Special Event at the Historic Deerfield Store - Meet the Author! Appleseeds
DESCRIPTION:Melissa M. Cybulski will share how she turned real history into historical fiction in this middle grade reader's book set right here in Western Massachusetts about the childhood years of the real-life Johnny Appleseed.\n\nJohnny Chapman will grow up to be a legend but first he needs to climb down from that tree\, find his little brother\, learn perfect cursive\, and remember to put his shoes on before he leaves the house! Appleseeds: A Boy Named Johnny Chapman imagines for the first time the story of the boy who grows up to become the famous orchardist\, Johnny Appleseed. It is the summer of 1783. The Revolutionary War is finally over\, families are rebuilding their lives\, and Johnny Chapman's town of Longmeadow\, Massachusetts is planning a celebration. Johnny and his new friends\, Nicholas and Eda\, have a summer of learning and adventures waiting for them.
X-ALT-DESC;FMTTYPE=text/html:Melissa M. Cybulski will share how she turned real history into historical fiction in this middle grade reader&rsquo\;s book set right here in Western Massachusetts about the childhood years of the real-life Johnny Appleseed.<br />\nJohnny Chapman will grow up to be a legend&hellip\;but first he needs to climb down from that tree\, find his little brother\, learn perfect cursive\, and remember to put his shoes on before he leaves the house! Appleseeds: A Boy Named Johnny Chapman imagines for the first time the story of the boy who grows up to become the famous orchardist\, Johnny Appleseed. It is the summer of 1783. The Revolutionary War is finally over\, families are rebuilding their lives\, and Johnny Chapman&rsquo\;s town of Longmeadow\, Massachusetts is planning a celebration. Johnny and his new friends\, Nicholas and Eda\, have a summer of learning and adventures waiting for them.
LOCATION:Historic Deerfield Museum Store & Bookstore 79 Old Main Street\, Deerfield
UID:e.2182.25090
SEQUENCE:3
DTSTAMP:20260424T013757Z
URL:https://chamber.franklincc.org/events/details/special-event-at-the-historic-deerfield-store-meet-the-author-appleseeds-25090
END:VEVENT

END:VCALENDAR
