BEGIN:VCALENDAR
VERSION:2.0
PRODID:-//ChamberMaster//Event Calendar 2.0//EN
METHOD:PUBLISH
X-PUBLISHED-TTL:P3D
REFRESH-INTERVAL:P3D
CALSCALE:GREGORIAN
BEGIN:VEVENT
DTSTART:20181117T140000Z
DTEND:20181117T190000Z
X-MICROSOFT-CDO-ALLDAYEVENT:FALSE
SUMMARY:Snowflake Bazaar
DESCRIPTION:Featuring various vendors. Lunch available.
X-ALT-DESC;FMTTYPE=text/html:Featuring various vendors. Lunch available.
LOCATION:Republican Lodge (Masonic) Building 215 Munson Street\, Greenfield
UID:e.2182.13467
SEQUENCE:3
DTSTAMP:20260424T211719Z
URL:https://chamber.franklincc.org/events/details/snowflake-bazaar-13467
END:VEVENT

END:VCALENDAR
