BEGIN:VCALENDAR
VERSION:2.0
PRODID:-//ChamberMaster//Event Calendar 2.0//EN
METHOD:PUBLISH
X-PUBLISHED-TTL:P3D
REFRESH-INTERVAL:P3D
CALSCALE:GREGORIAN
BEGIN:VEVENT
DTSTART:20250621T220000Z
DTEND:20250622T010000Z
X-MICROSOFT-CDO-ALLDAYEVENT:FALSE
SUMMARY:Small Town Radio LIVE at Incandescent
DESCRIPTION:SMALL TOWN RADIO is a local band from Greenfield Massachusetts. We rock-ify everything from classic hits to modern pop songs mashups and more\, offering a mix of originals and covers all with a twist of our own inspiration. All Ages - No Cover! And awesome fresh brews made right here\, by us.
X-ALT-DESC;FMTTYPE=text/html:SMALL TOWN RADIO is a local band from Greenfield Massachusetts. We rock-ify everything from classic hits to modern pop songs mashups and more\, offering a mix of originals and covers all with a twist of our own inspiration. All Ages - No Cover! And awesome fresh brews made right here\, by us.
LOCATION:Incandescent Brewing 203 South Street Bernardston MA 01337
UID:e.2182.24817
SEQUENCE:3
DTSTAMP:20260423T224631Z
URL:https://chamber.franklincc.org/events/details/small-town-radio-live-at-incandescent-24817
END:VEVENT

END:VCALENDAR
